BEGIN:VCALENDAR
VERSION:2.0
PRODID:-//Diocese 64 - ECPv6.15.20//NONSGML v1.0//EN
CALSCALE:GREGORIAN
METHOD:PUBLISH
X-WR-CALNAME:Diocese 64
X-ORIGINAL-URL:https://diocese64.org
X-WR-CALDESC:Évènements pour Diocese 64
REFRESH-INTERVAL;VALUE=DURATION:PT1H
X-Robots-Tag:noindex
X-PUBLISHED-TTL:PT1H
BEGIN:VTIMEZONE
TZID:Europe/Paris
BEGIN:DAYLIGHT
TZOFFSETFROM:+0100
TZOFFSETTO:+0200
TZNAME:CEST
DTSTART:20220327T010000
END:DAYLIGHT
BEGIN:STANDARD
TZOFFSETFROM:+0200
TZOFFSETTO:+0100
TZNAME:CET
DTSTART:20221030T010000
END:STANDARD
BEGIN:DAYLIGHT
TZOFFSETFROM:+0100
TZOFFSETTO:+0200
TZNAME:CEST
DTSTART:20230326T010000
END:DAYLIGHT
BEGIN:STANDARD
TZOFFSETFROM:+0200
TZOFFSETTO:+0100
TZNAME:CET
DTSTART:20231029T010000
END:STANDARD
BEGIN:DAYLIGHT
TZOFFSETFROM:+0100
TZOFFSETTO:+0200
TZNAME:CEST
DTSTART:20240331T010000
END:DAYLIGHT
BEGIN:STANDARD
TZOFFSETFROM:+0200
TZOFFSETTO:+0100
TZNAME:CET
DTSTART:20241027T010000
END:STANDARD
END:VTIMEZONE
BEGIN:VEVENT
DTSTART;TZID=Europe/Paris:20230523T183000
DTEND;TZID=Europe/Paris:20230523T203000
DTSTAMP:20260421T123058
CREATED:20230417T151211Z
LAST-MODIFIED:20230417T151739Z
UID:12576-1684866600-1684873800@diocese64.org
SUMMARY:Séance cinéma "Miracles"
DESCRIPTION:L’Association Familiale Catholique de la côte basque organise une séance cinéma mardi 23 mai à 18h30 au cinéma Le Select à Saint-Jean-de-Luz : « Miracles » de Pierre Barnérias\, une enquête sur 3 énigmes restées scientifiquement inexpliquées : le suaire de Turin\, les écrits de Maria Valtorta et l’image de la Vierge de Guadalupe. \ntarif entrée adhérent : 5€ \nRenseignements : afc-cotebasque@hotmail.fr \nPlus d’informations \n\n				\n					\n					\n									\n										Facebook\n									\n								\n									\n										Twitter\n									\n								\n									\n										Imprimer
URL:https://diocese64.org/evenement/12576/
LOCATION:Cinéma Le Select – St-Jean-de-Luz\, 29 Bd Victor Hugo\, Saint-Jean-de-Luz\, 64500
CATEGORIES:Mouvements et Associations,Pays Basque
ATTACH;FMTTYPE=image/jpeg:https://diocese64.org/site/wp-content/uploads/2023/04/230523-film.jpg
END:VEVENT
END:VCALENDAR