BEGIN:VCALENDAR
VERSION:2.0
PRODID:-//Diocese 64 - ECPv6.15.20//NONSGML v1.0//EN
CALSCALE:GREGORIAN
METHOD:PUBLISH
X-WR-CALNAME:Diocese 64
X-ORIGINAL-URL:https://diocese64.org
X-WR-CALDESC:Évènements pour Diocese 64
REFRESH-INTERVAL;VALUE=DURATION:PT1H
X-Robots-Tag:noindex
X-PUBLISHED-TTL:PT1H
BEGIN:VTIMEZONE
TZID:Europe/Paris
BEGIN:DAYLIGHT
TZOFFSETFROM:+0100
TZOFFSETTO:+0200
TZNAME:CEST
DTSTART:20220327T010000
END:DAYLIGHT
BEGIN:STANDARD
TZOFFSETFROM:+0200
TZOFFSETTO:+0100
TZNAME:CET
DTSTART:20221030T010000
END:STANDARD
BEGIN:DAYLIGHT
TZOFFSETFROM:+0100
TZOFFSETTO:+0200
TZNAME:CEST
DTSTART:20230326T010000
END:DAYLIGHT
BEGIN:STANDARD
TZOFFSETFROM:+0200
TZOFFSETTO:+0100
TZNAME:CET
DTSTART:20231029T010000
END:STANDARD
BEGIN:DAYLIGHT
TZOFFSETFROM:+0100
TZOFFSETTO:+0200
TZNAME:CEST
DTSTART:20240331T010000
END:DAYLIGHT
BEGIN:STANDARD
TZOFFSETFROM:+0200
TZOFFSETTO:+0100
TZNAME:CET
DTSTART:20241027T010000
END:STANDARD
END:VTIMEZONE
BEGIN:VEVENT
DTSTART;TZID=Europe/Paris:20231020T200000
DTEND;TZID=Europe/Paris:20231020T220000
DTSTAMP:20260422T163318
CREATED:20230919T150727Z
LAST-MODIFIED:20230919T150728Z
UID:15680-1697832000-1697839200@diocese64.org
SUMMARY:Monseigneur Marc Aillet en conférence avec les "Plus" de la formation permanente en Béarn
DESCRIPTION:Monseigneur tiendra une conférence sur son livre « Le temps des Saints – ne soyons pas des chiens muets » vendredi 20 octobre à 20h. \n \nLa Formation Permanente propose des « Plus ».\nrencontres et débats à l’église Saint-Paul\,\n262 boulevard de la Paix\, à Pau. \nLibre participation aux frais.\nInscription avant chaque soirée auprès du :\nService de Formation Permanente\nCentre Diocésain du Béarn\n36 avenue de l’église Saint-Joseph\n64000 PAU\nAu 05 59 84 94 20 ou formationpermanentebearn@gmail.com \nConsulter les thèmes et les dates \n\n				\n					\n					\n									\n										Facebook\n									\n								\n									\n										Twitter\n									\n								\n									\n										Imprimer
URL:https://diocese64.org/evenement/15163-2/
LOCATION:Salle paroissiale église Saint-Paul – Pau\, 262 boulevard de la Paix\, Pau\, 64000
CATEGORIES:Béarn
ATTACH;FMTTYPE=image/png:https://diocese64.org/site/wp-content/uploads/2023/08/Formation-permanente.png
END:VEVENT
END:VCALENDAR