BEGIN:VCALENDAR
VERSION:2.0
PRODID:-//Diocese 64 - ECPv6.15.20//NONSGML v1.0//EN
CALSCALE:GREGORIAN
METHOD:PUBLISH
X-WR-CALNAME:Diocese 64
X-ORIGINAL-URL:https://diocese64.org
X-WR-CALDESC:Évènements pour Diocese 64
REFRESH-INTERVAL;VALUE=DURATION:PT1H
X-Robots-Tag:noindex
X-PUBLISHED-TTL:PT1H
BEGIN:VTIMEZONE
TZID:Europe/Paris
BEGIN:DAYLIGHT
TZOFFSETFROM:+0100
TZOFFSETTO:+0200
TZNAME:CEST
DTSTART:20220327T010000
END:DAYLIGHT
BEGIN:STANDARD
TZOFFSETFROM:+0200
TZOFFSETTO:+0100
TZNAME:CET
DTSTART:20221030T010000
END:STANDARD
BEGIN:DAYLIGHT
TZOFFSETFROM:+0100
TZOFFSETTO:+0200
TZNAME:CEST
DTSTART:20230326T010000
END:DAYLIGHT
BEGIN:STANDARD
TZOFFSETFROM:+0200
TZOFFSETTO:+0100
TZNAME:CET
DTSTART:20231029T010000
END:STANDARD
BEGIN:DAYLIGHT
TZOFFSETFROM:+0100
TZOFFSETTO:+0200
TZNAME:CEST
DTSTART:20240331T010000
END:DAYLIGHT
BEGIN:STANDARD
TZOFFSETFROM:+0200
TZOFFSETTO:+0100
TZNAME:CET
DTSTART:20241027T010000
END:STANDARD
END:VTIMEZONE
BEGIN:VEVENT
DTSTART;TZID=Europe/Paris:20231118T120000
DTEND;TZID=Europe/Paris:20231119T160000
DTSTAMP:20260421T024050
CREATED:20230929T102636Z
LAST-MODIFIED:20231011T102839Z
UID:15976-1700308800-1700409600@diocese64.org
SUMMARY:7ème Journée Mondiale des Pauvres
DESCRIPTION:L’Association Fratello vous invite au sanctuaire de Lourdes les 18 et 19 novembre 2023 pour célébrer la Journée Mondiale des Pauvres. Renseignements : lourdes.fratello@gmail.com Inscription soit par le QRcode ci-dessous soit par mail ou bien en cliquant sur ce lien. \n  \n\n				\n					\n					\n									\n										Facebook\n									\n								\n									\n										Twitter\n									\n								\n									\n										Imprimer
URL:https://diocese64.org/evenement/7eme-journee-mondiale-des-pauvres/
LOCATION:Lourdes\, Lourdes\, 65100
CATEGORIES:Hors diocèse,Mouvements et Associations
ATTACH;FMTTYPE=image/png:https://diocese64.org/site/wp-content/uploads/2023/09/Fratello.png
ORGANIZER;CN="Fratello":MAILTO:contact@wearefratello.org
END:VEVENT
END:VCALENDAR