BEGIN:VCALENDAR
VERSION:2.0
PRODID:-//Diocese 64 - ECPv6.15.20//NONSGML v1.0//EN
CALSCALE:GREGORIAN
METHOD:PUBLISH
X-WR-CALNAME:Diocese 64
X-ORIGINAL-URL:https://diocese64.org
X-WR-CALDESC:Évènements pour Diocese 64
REFRESH-INTERVAL;VALUE=DURATION:PT1H
X-Robots-Tag:noindex
X-PUBLISHED-TTL:PT1H
BEGIN:VTIMEZONE
TZID:Europe/Paris
BEGIN:DAYLIGHT
TZOFFSETFROM:+0100
TZOFFSETTO:+0200
TZNAME:CEST
DTSTART:20250330T010000
END:DAYLIGHT
BEGIN:STANDARD
TZOFFSETFROM:+0200
TZOFFSETTO:+0100
TZNAME:CET
DTSTART:20251026T010000
END:STANDARD
BEGIN:DAYLIGHT
TZOFFSETFROM:+0100
TZOFFSETTO:+0200
TZNAME:CEST
DTSTART:20260329T010000
END:DAYLIGHT
BEGIN:STANDARD
TZOFFSETFROM:+0200
TZOFFSETTO:+0100
TZNAME:CET
DTSTART:20261025T010000
END:STANDARD
BEGIN:DAYLIGHT
TZOFFSETFROM:+0100
TZOFFSETTO:+0200
TZNAME:CEST
DTSTART:20270328T010000
END:DAYLIGHT
BEGIN:STANDARD
TZOFFSETFROM:+0200
TZOFFSETTO:+0100
TZNAME:CET
DTSTART:20271031T010000
END:STANDARD
END:VTIMEZONE
BEGIN:VEVENT
DTSTART;TZID=Europe/Paris:20260424T110000
DTEND;TZID=Europe/Paris:20260424T120000
DTSTAMP:20260420T183101
CREATED:20260420T125638Z
LAST-MODIFIED:20260420T125638Z
UID:35078-1777028400-1777032000@diocese64.org
SUMMARY:Commémoration du génocide des Arméniens à Biarritz
DESCRIPTION:AgurArménie\, Association Culturelle France-Arménie du Pays basque\, vous invite à la Cérémonie de Commémoration du 111e anniversaire du Génocide des Arméniens\, perpétré par l’Empire ottoman en 1915\, lundi 24 avril 2026 à 11h précises – Stèle de la Mémoire future (Esplanade des Anciens Combattants – Monument aux Morts de Biarritz). — \nLa Commémoration se déroulera en présence de Monsieur le Sous-Préfet Mathieu Duhamel\, de Monsieur le Maire de Biarritz Serge Blanco\, de Monsieur le Sénateur Max Brisson\, de Monsieur le Député Peio Dufau\, des différentes personnalités locales et représentatives des Cultes\, les Porte-drapeaux et toutes les Consciences Amies sensibles à notre lourd devoir de mémoire.\nCette journée commémorative sera exceptionnellement prolongée par la projection du film « S.E.U.L.S » au cinéma Le Sélect de Saint Jean de Luz à 20 h 30\, en présence des deux co-réalisateurs. La billetterie est ouverte :  https://www.cineluz.fr/film/635040/ \nRenseignements : https://agurarmenie.com – agurarmenie64@gmail.com\nClément Parakian\, président\, clement.parakian@gmail.com – 06 80 44 49 62 \n \nVenez en avance. Parking Ste Eugénie Biarritz \nVoir le plan\n  \n\n				\n					\n					\n									\n										Facebook\n									\n								\n									\n										Twitter\n									\n								\n									\n										Imprimer
URL:https://diocese64.org/evenement/commemoration-du-genocide-des-armeniens-a-biarritz/
LOCATION:Monument aux morts de Biarritz\, esplanade des Anciens-Combattants\, Biarritz\, 64200\, France
CATEGORIES:Mouvements et Associations,Pays Basque
ATTACH;FMTTYPE=image/jpeg:https://diocese64.org/site/wp-content/uploads/2023/09/Agur_Armenie.jpg
END:VEVENT
END:VCALENDAR