BEGIN:VCALENDAR
VERSION:2.0
PRODID:-//Diocese 64 - ECPv6.15.20//NONSGML v1.0//EN
CALSCALE:GREGORIAN
METHOD:PUBLISH
X-WR-CALNAME:Diocese 64
X-ORIGINAL-URL:https://diocese64.org
X-WR-CALDESC:Évènements pour Diocese 64
REFRESH-INTERVAL;VALUE=DURATION:PT1H
X-Robots-Tag:noindex
X-PUBLISHED-TTL:PT1H
BEGIN:VTIMEZONE
TZID:Europe/Paris
BEGIN:DAYLIGHT
TZOFFSETFROM:+0100
TZOFFSETTO:+0200
TZNAME:CEST
DTSTART:20220327T010000
END:DAYLIGHT
BEGIN:STANDARD
TZOFFSETFROM:+0200
TZOFFSETTO:+0100
TZNAME:CET
DTSTART:20221030T010000
END:STANDARD
BEGIN:DAYLIGHT
TZOFFSETFROM:+0100
TZOFFSETTO:+0200
TZNAME:CEST
DTSTART:20230326T010000
END:DAYLIGHT
BEGIN:STANDARD
TZOFFSETFROM:+0200
TZOFFSETTO:+0100
TZNAME:CET
DTSTART:20231029T010000
END:STANDARD
BEGIN:DAYLIGHT
TZOFFSETFROM:+0100
TZOFFSETTO:+0200
TZNAME:CEST
DTSTART:20240331T010000
END:DAYLIGHT
BEGIN:STANDARD
TZOFFSETFROM:+0200
TZOFFSETTO:+0100
TZNAME:CET
DTSTART:20241027T010000
END:STANDARD
END:VTIMEZONE
BEGIN:VEVENT
DTSTART;TZID=Europe/Paris:20230331T200000
DTEND;TZID=Europe/Paris:20230331T220000
DTSTAMP:20260419T203248
CREATED:20230228T135234Z
LAST-MODIFIED:20230328T185223Z
UID:11575-1680292800-1680300000@diocese64.org
SUMMARY:"D'où vient le mal ?" Conférence de Marc Conturie
DESCRIPTION:Vendredi 31 mars à Pau\, à l’église Saint-Paul\, 262 Boulevard de la Paix\, de 20h à 22h\, dans le cadre des Plus de la Formation Permanente\, monsieur Marc Conturie\, philosophe\, présentera « D’où vient le mal ? ». Destinée plus particulièrement aux personnes inscrites à l’escapade spirituelle sur les sentiers des cathares et de saint Dominique au mois de mai\, cette rencontre est ouverte à tous. Merci de vous inscrire par mail ou par téléphone auprès du service de Formation Permanente. Libre participation aux frais. \nService de Formation Permanente \ntel 05 59 84 94 20 \nformationpermanentebearn@gmail.com \n\n				\n					\n					\n									\n										Facebook\n									\n								\n									\n										Twitter\n									\n								\n									\n										Imprimer
URL:https://diocese64.org/evenement/conference-de-marc-conturie/
LOCATION:Eglise Saint-Paul à Pau\, 262 boulevard de la paix\, Pau\, 64000
CATEGORIES:Béarn,Services diocésains
ATTACH;FMTTYPE=image/png:https://diocese64.org/site/wp-content/uploads/2023/02/230331-Conturie.png
END:VEVENT
END:VCALENDAR