BEGIN:VCALENDAR
VERSION:2.0
PRODID:-//Diocese 64 - ECPv6.15.20//NONSGML v1.0//EN
CALSCALE:GREGORIAN
METHOD:PUBLISH
X-WR-CALNAME:Diocese 64
X-ORIGINAL-URL:https://diocese64.org
X-WR-CALDESC:Évènements pour Diocese 64
REFRESH-INTERVAL;VALUE=DURATION:PT1H
X-Robots-Tag:noindex
X-PUBLISHED-TTL:PT1H
BEGIN:VTIMEZONE
TZID:Europe/Paris
BEGIN:DAYLIGHT
TZOFFSETFROM:+0100
TZOFFSETTO:+0200
TZNAME:CEST
DTSTART:20220327T010000
END:DAYLIGHT
BEGIN:STANDARD
TZOFFSETFROM:+0200
TZOFFSETTO:+0100
TZNAME:CET
DTSTART:20221030T010000
END:STANDARD
BEGIN:DAYLIGHT
TZOFFSETFROM:+0100
TZOFFSETTO:+0200
TZNAME:CEST
DTSTART:20230326T010000
END:DAYLIGHT
BEGIN:STANDARD
TZOFFSETFROM:+0200
TZOFFSETTO:+0100
TZNAME:CET
DTSTART:20231029T010000
END:STANDARD
BEGIN:DAYLIGHT
TZOFFSETFROM:+0100
TZOFFSETTO:+0200
TZNAME:CEST
DTSTART:20240331T010000
END:DAYLIGHT
BEGIN:STANDARD
TZOFFSETFROM:+0200
TZOFFSETTO:+0100
TZNAME:CET
DTSTART:20241027T010000
END:STANDARD
END:VTIMEZONE
BEGIN:VEVENT
DTSTART;TZID=Europe/Paris:20230214T143000
DTEND;TZID=Europe/Paris:20230214T160000
DTSTAMP:20260421T123847
CREATED:20230213T094811Z
LAST-MODIFIED:20230213T095514Z
UID:11248-1676385000-1676390400@diocese64.org
SUMMARY:Conférence-débat avec l'abbé Jean Casanave
DESCRIPTION:L’association IFOCAP ADOUR (Institut de Formation des Cadres et Acteurs de Pays de l’Adour) organise une conférence débat : Jean Casanave sera questionné par Pierre Tauzia sur son livre : « Ces incroyables croyants »\, le mardi 14 février à 14h30\,à la Station à Sauveterre de Béarn (rond-point de la D27 en direction d’Oràas). \nCette rencontre se déroulera également par vidéo conférence pour les personnes qui le souhaitent. (Lien à cliquer) \nPour une meilleure organisation\, une inscription est demandée soit par mail (ifocap-adour@wanadoo.fr) ou par téléphone au 06 77 55 70 80. \nL’entrée est libre et ouverte à tous. \n\n				\n					\n					\n									\n										Facebook\n									\n								\n									\n										Twitter\n									\n								\n									\n										Imprimer
URL:https://diocese64.org/evenement/conference-debat-avec-labbe-jean-casanave/
LOCATION:La Station à Sauveterre de Béarn\, D27\, 64390 Sauveterre-de-Béarn\, France
CATEGORIES:Béarn,Mouvements et Associations
ATTACH;FMTTYPE=image/jpeg:https://diocese64.org/site/wp-content/uploads/2023/02/230214-IncroyablesCroyants.jpg
END:VEVENT
END:VCALENDAR