BEGIN:VCALENDAR
VERSION:2.0
PRODID:-//Diocese 64 - ECPv6.15.20//NONSGML v1.0//EN
CALSCALE:GREGORIAN
METHOD:PUBLISH
X-WR-CALNAME:Diocese 64
X-ORIGINAL-URL:https://diocese64.org
X-WR-CALDESC:Évènements pour Diocese 64
REFRESH-INTERVAL;VALUE=DURATION:PT1H
X-Robots-Tag:noindex
X-PUBLISHED-TTL:PT1H
BEGIN:VTIMEZONE
TZID:Europe/Paris
BEGIN:DAYLIGHT
TZOFFSETFROM:+0100
TZOFFSETTO:+0200
TZNAME:CEST
DTSTART:20240331T010000
END:DAYLIGHT
BEGIN:STANDARD
TZOFFSETFROM:+0200
TZOFFSETTO:+0100
TZNAME:CET
DTSTART:20241027T010000
END:STANDARD
BEGIN:DAYLIGHT
TZOFFSETFROM:+0100
TZOFFSETTO:+0200
TZNAME:CEST
DTSTART:20250330T010000
END:DAYLIGHT
BEGIN:STANDARD
TZOFFSETFROM:+0200
TZOFFSETTO:+0100
TZNAME:CET
DTSTART:20251026T010000
END:STANDARD
BEGIN:DAYLIGHT
TZOFFSETFROM:+0100
TZOFFSETTO:+0200
TZNAME:CEST
DTSTART:20260329T010000
END:DAYLIGHT
BEGIN:STANDARD
TZOFFSETFROM:+0200
TZOFFSETTO:+0100
TZNAME:CET
DTSTART:20261025T010000
END:STANDARD
END:VTIMEZONE
BEGIN:VEVENT
DTSTART;TZID=Europe/Paris:20250628T183000
DTEND;TZID=Europe/Paris:20250628T230000
DTSTAMP:20260422T111711
CREATED:20250623T122634Z
LAST-MODIFIED:20250623T122634Z
UID:29453-1751135400-1751151600@diocese64.org
SUMMARY:Fête de la Saint-Jean à la Chapelle Notre-Dame du Faget – Oloron
DESCRIPTION:Samedi 28 juin 2025 dès 18h30\, la Chapelle Notre-Dame du Faget fêtera la Saint-Jean : Messe animée – pique-nique partagé – embrasement du bûcher – veillée – conte et jeux \nRenseignements : 06 78 58 91 47 \n \n\n				\n					\n					\n									\n										Facebook\n									\n								\n									\n										Twitter\n									\n								\n									\n										Imprimer
URL:https://diocese64.org/evenement/fete-de-la-saint-jean-a-la-chapelle-notre-dame-du-faget-oloron/
LOCATION:Chapelle Notre-Dame du Faget – Oloron\, 250 Cami Dera Serra\, Oloron Sainte Marie\, Sélectionner un État :\, 64400\, France
CATEGORIES:Béarn,Vie paroissiale
ATTACH;FMTTYPE=image/jpeg:https://diocese64.org/site/wp-content/uploads/2025/06/Chapelle-ND-du-Faget.jpg
END:VEVENT
END:VCALENDAR