BEGIN:VCALENDAR
VERSION:2.0
PRODID:-//Diocese 64 - ECPv6.15.20//NONSGML v1.0//EN
CALSCALE:GREGORIAN
METHOD:PUBLISH
X-WR-CALNAME:Diocese 64
X-ORIGINAL-URL:https://diocese64.org
X-WR-CALDESC:Évènements pour Diocese 64
REFRESH-INTERVAL;VALUE=DURATION:PT1H
X-Robots-Tag:noindex
X-PUBLISHED-TTL:PT1H
BEGIN:VTIMEZONE
TZID:Europe/Paris
BEGIN:DAYLIGHT
TZOFFSETFROM:+0100
TZOFFSETTO:+0200
TZNAME:CEST
DTSTART:20230326T010000
END:DAYLIGHT
BEGIN:STANDARD
TZOFFSETFROM:+0200
TZOFFSETTO:+0100
TZNAME:CET
DTSTART:20231029T010000
END:STANDARD
BEGIN:DAYLIGHT
TZOFFSETFROM:+0100
TZOFFSETTO:+0200
TZNAME:CEST
DTSTART:20240331T010000
END:DAYLIGHT
BEGIN:STANDARD
TZOFFSETFROM:+0200
TZOFFSETTO:+0100
TZNAME:CET
DTSTART:20241027T010000
END:STANDARD
BEGIN:DAYLIGHT
TZOFFSETFROM:+0100
TZOFFSETTO:+0200
TZNAME:CEST
DTSTART:20250330T010000
END:DAYLIGHT
BEGIN:STANDARD
TZOFFSETFROM:+0200
TZOFFSETTO:+0100
TZNAME:CET
DTSTART:20251026T010000
END:STANDARD
END:VTIMEZONE
BEGIN:VEVENT
DTSTART;TZID=Europe/Paris:20241005T093000
DTEND;TZID=Europe/Paris:20241006T160000
DTSTAMP:20260419T203248
CREATED:20240923T154635Z
LAST-MODIFIED:20240925T102308Z
UID:23498-1728120600-1728230400@diocese64.org
SUMMARY:Formation Coteaux Païs - Repères pour décider
DESCRIPTION:A Toulouse (9 rue Monplaisir)\, Coteaux Païs organise 3 jours de formation humaine et spirituelle pour puiser dans la pédagogie ignatienne des repères pour discerner sous le regard de Dieu. Le thème : Que choisir ? Quand choisir ? Comment choisir !\nSamedi 5 octobre 2024 de 9h30 à 17h30 – Repas partagé le midi\nDimanche 6 octobre 2024 de 9h30 à 16h\nEt une troisième journée à fixer ensemble. \n \n\n				\n					\n					\n									\n										Facebook\n									\n								\n									\n										Twitter\n									\n								\n									\n										Imprimer
URL:https://diocese64.org/evenement/formation-coteaux-pais-reperes-pour-decider/
LOCATION:Toulouse\, Toulouse\, 31000
CATEGORIES:Hors diocèse
ATTACH;FMTTYPE=image/jpeg:https://diocese64.org/site/wp-content/uploads/2023/01/Coteaux-pais.jpg
ORGANIZER;CN="Coteaux Pa%C3%AFs Sud-Ouest":MAILTO:secretariat@coteaux-pais.net
END:VEVENT
END:VCALENDAR