BEGIN:VCALENDAR
VERSION:2.0
PRODID:-//Diocese 64 - ECPv6.15.20//NONSGML v1.0//EN
CALSCALE:GREGORIAN
METHOD:PUBLISH
X-WR-CALNAME:Diocese 64
X-ORIGINAL-URL:https://diocese64.org
X-WR-CALDESC:Évènements pour Diocese 64
REFRESH-INTERVAL;VALUE=DURATION:PT1H
X-Robots-Tag:noindex
X-PUBLISHED-TTL:PT1H
BEGIN:VTIMEZONE
TZID:Europe/Paris
BEGIN:DAYLIGHT
TZOFFSETFROM:+0100
TZOFFSETTO:+0200
TZNAME:CEST
DTSTART:20240331T010000
END:DAYLIGHT
BEGIN:STANDARD
TZOFFSETFROM:+0200
TZOFFSETTO:+0100
TZNAME:CET
DTSTART:20241027T010000
END:STANDARD
BEGIN:DAYLIGHT
TZOFFSETFROM:+0100
TZOFFSETTO:+0200
TZNAME:CEST
DTSTART:20250330T010000
END:DAYLIGHT
BEGIN:STANDARD
TZOFFSETFROM:+0200
TZOFFSETTO:+0100
TZNAME:CET
DTSTART:20251026T010000
END:STANDARD
BEGIN:DAYLIGHT
TZOFFSETFROM:+0100
TZOFFSETTO:+0200
TZNAME:CEST
DTSTART:20260329T010000
END:DAYLIGHT
BEGIN:STANDARD
TZOFFSETFROM:+0200
TZOFFSETTO:+0100
TZNAME:CET
DTSTART:20261025T010000
END:STANDARD
END:VTIMEZONE
BEGIN:VEVENT
DTSTART;TZID=Europe/Paris:20250925T203000
DTEND;TZID=Europe/Paris:20250925T220000
DTSTAMP:20260419T191621
CREATED:20250909T140939Z
LAST-MODIFIED:20251009T092013Z
UID:30558-1758832200-1758837600@diocese64.org
SUMMARY:Formation « La Théologie du Corps de Saint Jean-Paul II » à Bayonne
DESCRIPTION:Afin de découvrir la Bonne Nouvelle du mariage et de la sexualité avec saint Jean-Paul II\, l’abbé Guillaume d’Aigremont\, curé de Bayonne-centre\, propose une formation de 10 soirées à Saint-Amand (salle de catéchisme – 52 av. Maréchal Soult – Bayonne) – un jeudi par mois de 20h30 à 22h00. La première séance aura lieu jeudi 25 septembre 2025. Les suivantes : 9 octobre – 6 novembre – 11 décembre – 8 janvier 2026 – 5 février – 12 mars – 23 avril – 21 mai – 11 juin. \nParticipation aux frais : 10€ pour l’année\nRenseignements et inscriptions : 06 87 82 68 42\n— \n \n\n				\n					\n					\n									\n										Facebook\n									\n								\n									\n										Twitter\n									\n								\n									\n										Imprimer
URL:https://diocese64.org/evenement/formation-la-theologie-du-corps-de-saint-jean-paul-ii-a-bayonne/
LOCATION:église Saint Amand\, 52 Av. Maréchal Soult\, Bayonne\, 64100\, France
CATEGORIES:Pays Basque
ATTACH;FMTTYPE=image/jpeg:https://diocese64.org/site/wp-content/uploads/2025/09/Theologie-du-corps-session-vignette.jpg
END:VEVENT
END:VCALENDAR