BEGIN:VCALENDAR
VERSION:2.0
PRODID:-//Diocese 64 - ECPv6.15.20//NONSGML v1.0//EN
CALSCALE:GREGORIAN
METHOD:PUBLISH
X-WR-CALNAME:Diocese 64
X-ORIGINAL-URL:https://diocese64.org
X-WR-CALDESC:Évènements pour Diocese 64
REFRESH-INTERVAL;VALUE=DURATION:PT1H
X-Robots-Tag:noindex
X-PUBLISHED-TTL:PT1H
BEGIN:VTIMEZONE
TZID:Europe/Paris
BEGIN:DAYLIGHT
TZOFFSETFROM:+0100
TZOFFSETTO:+0200
TZNAME:CEST
DTSTART:20220327T010000
END:DAYLIGHT
BEGIN:STANDARD
TZOFFSETFROM:+0200
TZOFFSETTO:+0100
TZNAME:CET
DTSTART:20221030T010000
END:STANDARD
BEGIN:DAYLIGHT
TZOFFSETFROM:+0100
TZOFFSETTO:+0200
TZNAME:CEST
DTSTART:20230326T010000
END:DAYLIGHT
BEGIN:STANDARD
TZOFFSETFROM:+0200
TZOFFSETTO:+0100
TZNAME:CET
DTSTART:20231029T010000
END:STANDARD
BEGIN:DAYLIGHT
TZOFFSETFROM:+0100
TZOFFSETTO:+0200
TZNAME:CEST
DTSTART:20240331T010000
END:DAYLIGHT
BEGIN:STANDARD
TZOFFSETFROM:+0200
TZOFFSETTO:+0100
TZNAME:CET
DTSTART:20241027T010000
END:STANDARD
END:VTIMEZONE
BEGIN:VEVENT
DTSTART;TZID=Europe/Paris:20231009T180000
DTEND;TZID=Europe/Paris:20231009T193000
DTSTAMP:20260422T163440
CREATED:20230926T101910Z
LAST-MODIFIED:20230926T101912Z
UID:15864-1696874400-1696879800@diocese64.org
SUMMARY:Formation permanente en Pays Basque 2023-2024 - Cambo
DESCRIPTION:Première séance de la Formation Permanente à Cambo\, au collège Saint-Michel Garicoïtz\, sur la lettre aux Hébreux et les Épitres de St Jacques et de St Pierre.\nRencontres mensuelles de 18h à 19h30 le 9 octobre ; 13 novembre ; 11 décembre ; 8 janvier ; 12 février ; 11 mars ; 8 avril ; 6 mai ; 10 juin.\nOuvert à tous. Lecture et commentaires partagés de textes choisis. Fourniture de documents de synthèse (pour alléger la prise de notes). Mode interactif. Toutes questions annexes peuvent être posées. La parole est libre.\nInscriptions : sur place. Participation aux frais à fixer.\nResponsable : Père Dominique Sentucq : « dominique.sentucq@wanadoo.fr » ; Tel 06 30 73 62 26 \n  \n\n				\n					\n					\n									\n										Facebook\n									\n								\n									\n										Twitter\n									\n								\n									\n										Imprimer
URL:https://diocese64.org/evenement/formation-permanente-en-pays-basque-2023-2024-cambo-2/
LOCATION:Collège Saint-Michel Garicoïts\, 25 All. Edmond Rostand\, Cambo\, 64250
CATEGORIES:Pays Basque,Services diocésains
ATTACH;FMTTYPE=image/png:https://diocese64.org/site/wp-content/uploads/2023/08/Formation-permanente.png
ORGANIZER;CN="Formation Permanente en Pays Basque":MAILTO:dominique.sentucq@wanadoo.fr
END:VEVENT
END:VCALENDAR