BEGIN:VCALENDAR
VERSION:2.0
PRODID:-//Diocese 64 - ECPv6.15.20//NONSGML v1.0//EN
CALSCALE:GREGORIAN
METHOD:PUBLISH
X-WR-CALNAME:Diocese 64
X-ORIGINAL-URL:https://diocese64.org
X-WR-CALDESC:Évènements pour Diocese 64
REFRESH-INTERVAL;VALUE=DURATION:PT1H
X-Robots-Tag:noindex
X-PUBLISHED-TTL:PT1H
BEGIN:VTIMEZONE
TZID:Europe/Paris
BEGIN:DAYLIGHT
TZOFFSETFROM:+0100
TZOFFSETTO:+0200
TZNAME:CEST
DTSTART:20220327T010000
END:DAYLIGHT
BEGIN:STANDARD
TZOFFSETFROM:+0200
TZOFFSETTO:+0100
TZNAME:CET
DTSTART:20221030T010000
END:STANDARD
BEGIN:DAYLIGHT
TZOFFSETFROM:+0100
TZOFFSETTO:+0200
TZNAME:CEST
DTSTART:20230326T010000
END:DAYLIGHT
BEGIN:STANDARD
TZOFFSETFROM:+0200
TZOFFSETTO:+0100
TZNAME:CET
DTSTART:20231029T010000
END:STANDARD
BEGIN:DAYLIGHT
TZOFFSETFROM:+0100
TZOFFSETTO:+0200
TZNAME:CEST
DTSTART:20240331T010000
END:DAYLIGHT
BEGIN:STANDARD
TZOFFSETFROM:+0200
TZOFFSETTO:+0100
TZNAME:CET
DTSTART:20241027T010000
END:STANDARD
END:VTIMEZONE
BEGIN:VEVENT
DTSTART;TZID=Europe/Paris:20231116T180000
DTEND;TZID=Europe/Paris:20231116T193000
DTSTAMP:20260422T163757
CREATED:20230912T103853Z
LAST-MODIFIED:20230912T103853Z
UID:10000577-1700157600-1700163000@diocese64.org
SUMMARY:Formation permanente en Pays Basque 2023-2024 - Saint-Jean-de-Luz
DESCRIPTION:Vous trouverez ici toutes les dates de la Formation Permanente pour l’année 2023-2024 à Saint-Jean-de-Luz. \nÀ la salle Chapelle de Notre-Dame de la Paix de Saint-Jean-de-Luz le 12 octobre ; 16 novembre ; 14 décembre ; 18 janvier ; 8 février ; 14 mars ; 11 avril ; 23 mai ; 13 juin. \nThème : le parcours de cette année nous familiarisera avec : la lettre aux Hébreux et les Épitres de St Jacques et de St Pierre. \nIntérêt : on est plus familier des épitres de St Paul qui s’adressent à des communautés nommées !  La Lettre aux Hébreux (sans nom d’auteur) et les épitres de St Jacques et de St Pierre (on évoquera aussi celles de St Jean et Jude) sont appelées « catholiques » c’est-à-dire « universelles ». Ces textes sont les plus tardifs du Nouveau Testament\, avec de nombreuses références à l’Ancien Testament. Cela favorise un réel parcours biblique ! \nFinalité de ces écrits : fonder\, éclairer et soutenir la foi en Jésus-Christ de nouveaux convertis ou de ceux qui sont en recherche.  Indiquer aux jeunes communautés comment vivre en Église cette foi\, dans des contextes divers. Intéressant pour nous aujourd’hui ! \nRythme : rencontres mensuelles de 18h à 19h30. \nModalité : ouvert à tous.  Pas de question de niveau !  Lecture et commentaires partagés de textes choisis. Fourniture de documents de synthèse (pour alléger la prise de notes). Mode interactif. Toutes questions annexes peuvent être posées. La parole est libre. \nInscriptions : sur place. \nParticipation aux frais à fixer. \nLieux : six groupes. Même programme et même rythme. On peut rejoindre l’un ou l’autre suivant convenance de dates. \nResponsable : Père Dominique Sentucq : \n« dominique.sentucq@wanadoo.fr » \nTel 06 30 73 62 26 \n  \n\n				\n					\n					\n									\n										Facebook\n									\n								\n									\n										Twitter\n									\n								\n									\n										Imprimer
URL:https://diocese64.org/evenement/formation-permanente-en-pays-basque-2023-2024-saint-jean-de-luz/2023-11-16/
LOCATION:Salle Chapelle de Notre-Dame de la Paix – St-Jean-de-Luz\, Saint-Jean-de-Luz\, 64500
CATEGORIES:Pays Basque,Services diocésains
ATTACH;FMTTYPE=image/png:https://diocese64.org/site/wp-content/uploads/2023/08/Formation-permanente.png
ORGANIZER;CN="Formation Permanente en Pays Basque":MAILTO:dominique.sentucq@wanadoo.fr
END:VEVENT
END:VCALENDAR