BEGIN:VCALENDAR
VERSION:2.0
PRODID:-//Diocese 64 - ECPv6.15.20//NONSGML v1.0//EN
CALSCALE:GREGORIAN
METHOD:PUBLISH
X-WR-CALNAME:Diocese 64
X-ORIGINAL-URL:https://diocese64.org
X-WR-CALDESC:Évènements pour Diocese 64
REFRESH-INTERVAL;VALUE=DURATION:PT1H
X-Robots-Tag:noindex
X-PUBLISHED-TTL:PT1H
BEGIN:VTIMEZONE
TZID:Europe/Paris
BEGIN:DAYLIGHT
TZOFFSETFROM:+0100
TZOFFSETTO:+0200
TZNAME:CEST
DTSTART:20230326T010000
END:DAYLIGHT
BEGIN:STANDARD
TZOFFSETFROM:+0200
TZOFFSETTO:+0100
TZNAME:CET
DTSTART:20231029T010000
END:STANDARD
BEGIN:DAYLIGHT
TZOFFSETFROM:+0100
TZOFFSETTO:+0200
TZNAME:CEST
DTSTART:20240331T010000
END:DAYLIGHT
BEGIN:STANDARD
TZOFFSETFROM:+0200
TZOFFSETTO:+0100
TZNAME:CET
DTSTART:20241027T010000
END:STANDARD
BEGIN:DAYLIGHT
TZOFFSETFROM:+0100
TZOFFSETTO:+0200
TZNAME:CEST
DTSTART:20250330T010000
END:DAYLIGHT
BEGIN:STANDARD
TZOFFSETFROM:+0200
TZOFFSETTO:+0100
TZNAME:CET
DTSTART:20251026T010000
END:STANDARD
END:VTIMEZONE
BEGIN:VEVENT
DTSTART;TZID=Europe/Paris:20241014T180000
DTEND;TZID=Europe/Paris:20241014T193000
DTSTAMP:20260422T175542
CREATED:20240905T132053Z
LAST-MODIFIED:20240905T155613Z
UID:23164-1728928800-1728934200@diocese64.org
SUMMARY:Formation permanente en Pays Basque 2024-2025 - Saint-Palais
DESCRIPTION:Première séance de la Formation Permanente à la salle paroissiale de Saint-Palais\, sur le thème : Parcourir le Livre de Job : assemblage de textes d’époques différentes\, d’auteurs inconnus\, mettant en scène un personnage fictif (ainsi que ses amis !)\, en proie à des malheurs poussés à l’extrême. La rédaction s’étend sur une longue période (début IVè-Vème siècle av. J.C .) à partir\, sans doute\, d’un conte populaire non israélite. S’instaure\, dans le temps\, un véritable débat théologique sur le problème de la souffrance infligée à des innocents et sur les questions qui en découlent : la justice et l’injustice dans le monde et dans la vie ? Dieu en est-il responsable ? \nRencontres mensuelles de 18h à 19h30 le lundi 14 octobre ; 18 novembre ; 9 décembre ; 13 janvier ; 10 février ; 24 mars ; 28 avril ; 12 mai ; 16 juin. \nOuvert à tous. Lecture et commentaire de textes choisis. Remise de documents (textes\, commentaires).  Mise en parallèle avec psaumes et Nouveau Testament. Mode participatif et interactif (questions ouvertes). \nParticipation aux frais de 40 euros par personne. \nResponsable : Père Dominique Sentucq : « dominique.sentucq@wanadoo.fr » ; Tel 06 30 73 62 26 \n  \n\n				\n					\n					\n									\n										Facebook\n									\n								\n									\n										Twitter\n									\n								\n									\n										Imprimer
URL:https://diocese64.org/evenement/formation-permanente-en-pays-basque-2024-2025-saint-palais/
LOCATION:Salle paroissiale – Saint Palais\, Saint-Palais\, 64120
CATEGORIES:Pays Basque,Services diocésains
ATTACH;FMTTYPE=image/png:https://diocese64.org/site/wp-content/uploads/2023/08/Formation-permanente.png
ORGANIZER;CN="Formation Permanente en Pays Basque":MAILTO:dominique.sentucq@wanadoo.fr
END:VEVENT
END:VCALENDAR