BEGIN:VCALENDAR
VERSION:2.0
PRODID:-//Diocese 64 - ECPv6.15.20//NONSGML v1.0//EN
CALSCALE:GREGORIAN
METHOD:PUBLISH
X-WR-CALNAME:Diocese 64
X-ORIGINAL-URL:https://diocese64.org
X-WR-CALDESC:Évènements pour Diocese 64
REFRESH-INTERVAL;VALUE=DURATION:PT1H
X-Robots-Tag:noindex
X-PUBLISHED-TTL:PT1H
BEGIN:VTIMEZONE
TZID:Europe/Paris
BEGIN:DAYLIGHT
TZOFFSETFROM:+0100
TZOFFSETTO:+0200
TZNAME:CEST
DTSTART:20220327T010000
END:DAYLIGHT
BEGIN:STANDARD
TZOFFSETFROM:+0200
TZOFFSETTO:+0100
TZNAME:CET
DTSTART:20221030T010000
END:STANDARD
BEGIN:DAYLIGHT
TZOFFSETFROM:+0100
TZOFFSETTO:+0200
TZNAME:CEST
DTSTART:20230326T010000
END:DAYLIGHT
BEGIN:STANDARD
TZOFFSETFROM:+0200
TZOFFSETTO:+0100
TZNAME:CET
DTSTART:20231029T010000
END:STANDARD
BEGIN:DAYLIGHT
TZOFFSETFROM:+0100
TZOFFSETTO:+0200
TZNAME:CEST
DTSTART:20240331T010000
END:DAYLIGHT
BEGIN:STANDARD
TZOFFSETFROM:+0200
TZOFFSETTO:+0100
TZNAME:CET
DTSTART:20241027T010000
END:STANDARD
END:VTIMEZONE
BEGIN:VEVENT
DTSTART;TZID=Europe/Paris:20230128T093000
DTEND;TZID=Europe/Paris:20230129T163000
DTSTAMP:20260422T111738
CREATED:20230120T102206Z
LAST-MODIFIED:20230120T161252Z
UID:10891-1674898200-1675009800@diocese64.org
SUMMARY:Halte spirituelle avec le centre spirituel jésuite Coteaux Païs
DESCRIPTION:Le centre spirituel jésuite Coteaux Païs propose une halte spirituelle à l’abbaye Saint Scholastique d’Urt du samedi 28 janvier (9h30) au dimanche 29 janvier (16h30). \nL’objectif de ce week-end est de vivre un ressourcement dans une démarche s’enracinant dans la tradition spirituelle ignatienne : \n\nla prière comme relation personnelle à Dieu\nle silence\nle partage\n\nElle sera animée par les équipes de Coteaux Païs de Bayonne et de Pau. \nBudget : entre 85 et 120€/pers (suivant ses possibilités). \nLe thème : “ l’espérance\, une manière de vivre en chrétien et en chrétienne dans le monde ». \nRenseignements : bayonne@coteaux-pais.net ; pau@coteaux-pais.net \nInscription avant le 23 janvier. \n\n				\n					\n					\n									\n										Facebook\n									\n								\n									\n										Twitter\n									\n								\n									\n										Imprimer
URL:https://diocese64.org/evenement/halte-spirituelle-avec-le-centre-spirituel-jesuite-coteaux-pais/
LOCATION:Monastère Sainte Scholastique – Urt\, D510\, Urt\, 64240
CATEGORIES:Béarn,Pays Basque
ATTACH;FMTTYPE=image/png:https://diocese64.org/site/wp-content/uploads/2023/01/coteaux-pais-logo.png
ORGANIZER;CN="Coteaux Pa%C3%AFs - Bayonne et Pau":MAILTO:bayonne@coteaux-pais.net
END:VEVENT
END:VCALENDAR