BEGIN:VCALENDAR
VERSION:2.0
PRODID:-//Diocese 64 - ECPv6.15.20//NONSGML v1.0//EN
CALSCALE:GREGORIAN
METHOD:PUBLISH
X-WR-CALNAME:Diocese 64
X-ORIGINAL-URL:https://diocese64.org
X-WR-CALDESC:Évènements pour Diocese 64
REFRESH-INTERVAL;VALUE=DURATION:PT1H
X-Robots-Tag:noindex
X-PUBLISHED-TTL:PT1H
BEGIN:VTIMEZONE
TZID:Europe/Paris
BEGIN:DAYLIGHT
TZOFFSETFROM:+0100
TZOFFSETTO:+0200
TZNAME:CEST
DTSTART:20240331T010000
END:DAYLIGHT
BEGIN:STANDARD
TZOFFSETFROM:+0200
TZOFFSETTO:+0100
TZNAME:CET
DTSTART:20241027T010000
END:STANDARD
BEGIN:DAYLIGHT
TZOFFSETFROM:+0100
TZOFFSETTO:+0200
TZNAME:CEST
DTSTART:20250330T010000
END:DAYLIGHT
BEGIN:STANDARD
TZOFFSETFROM:+0200
TZOFFSETTO:+0100
TZNAME:CET
DTSTART:20251026T010000
END:STANDARD
BEGIN:DAYLIGHT
TZOFFSETFROM:+0100
TZOFFSETTO:+0200
TZNAME:CEST
DTSTART:20260329T010000
END:DAYLIGHT
BEGIN:STANDARD
TZOFFSETFROM:+0200
TZOFFSETTO:+0100
TZNAME:CET
DTSTART:20261025T010000
END:STANDARD
END:VTIMEZONE
BEGIN:VEVENT
DTSTART;TZID=Europe/Paris:20250427T173000
DTEND;TZID=Europe/Paris:20250427T193000
DTSTAMP:20260421T124120
CREATED:20250203T152852Z
LAST-MODIFIED:20250331T121210Z
UID:26667-1745775000-1745782200@diocese64.org
SUMMARY:Le spectacle « Bernadette de Lourdes » vient au CGR de Pau St-Louis !
DESCRIPTION:Après 400 000 spectateurs en France à Lourdes et dans plusieurs villes de France\, la comédie musicale est actuellement jouée en Italie et vient dans nos cinémas !\nL’occasion de voir ou revoir ce spectacle magnifique au cinéma :  Dimanche 27 avril 2025\, séance à 17h30 au CGR Pau St-Louis (11 rue du Maréchal Joffre)\nC’est un spectacle touchant\, fédérateur\, positif et qui fait du bien. \nUn conseil\, même si ce n’est qu’au mois d’avril\, réservez vos billets dès maintenant. \n \n  \n  \n\n				\n					\n					\n									\n										Facebook\n									\n								\n									\n										Twitter\n									\n								\n									\n										Imprimer
URL:https://diocese64.org/evenement/le-spectacle-bernadette-de-lourdes-vient-au-cgr-de-pau-st-louis/
LOCATION:CGR Saint-Louis – Pau\, Pau\, 64000
CATEGORIES:Béarn
ATTACH;FMTTYPE=image/png:https://diocese64.org/site/wp-content/uploads/2025/01/Logo-CGR.png
END:VEVENT
END:VCALENDAR