BEGIN:VCALENDAR
VERSION:2.0
PRODID:-//Diocese 64 - ECPv6.15.20//NONSGML v1.0//EN
CALSCALE:GREGORIAN
METHOD:PUBLISH
X-WR-CALNAME:Diocese 64
X-ORIGINAL-URL:https://diocese64.org
X-WR-CALDESC:Évènements pour Diocese 64
REFRESH-INTERVAL;VALUE=DURATION:PT1H
X-Robots-Tag:noindex
X-PUBLISHED-TTL:PT1H
BEGIN:VTIMEZONE
TZID:Europe/Paris
BEGIN:DAYLIGHT
TZOFFSETFROM:+0100
TZOFFSETTO:+0200
TZNAME:CEST
DTSTART:20220327T010000
END:DAYLIGHT
BEGIN:STANDARD
TZOFFSETFROM:+0200
TZOFFSETTO:+0100
TZNAME:CET
DTSTART:20221030T010000
END:STANDARD
BEGIN:DAYLIGHT
TZOFFSETFROM:+0100
TZOFFSETTO:+0200
TZNAME:CEST
DTSTART:20230326T010000
END:DAYLIGHT
BEGIN:STANDARD
TZOFFSETFROM:+0200
TZOFFSETTO:+0100
TZNAME:CET
DTSTART:20231029T010000
END:STANDARD
BEGIN:DAYLIGHT
TZOFFSETFROM:+0100
TZOFFSETTO:+0200
TZNAME:CEST
DTSTART:20240331T010000
END:DAYLIGHT
BEGIN:STANDARD
TZOFFSETFROM:+0200
TZOFFSETTO:+0100
TZNAME:CET
DTSTART:20241027T010000
END:STANDARD
END:VTIMEZONE
BEGIN:VEVENT
DTSTART;TZID=Europe/Paris:20231031T200000
DTEND;TZID=Europe/Paris:20231031T220000
DTSTAMP:20260421T111030
CREATED:20230912T090453Z
LAST-MODIFIED:20230912T090453Z
UID:10000531-1698782400-1698789600@diocese64.org
SUMMARY:Lecture priante de l’évangile selon saint Jean (1-9) à Soumoulou par la Formation Permanente en Béarn
DESCRIPTION:Savourer et approfondir le commencement de l’évangile de Jean (chapitres 1 à 9) avec une lecture priante (Lectio divina). \nM. et Mme Mariano et Sylvaine TODESCHINI Soumoulou\, salle paroissiale \nMercredi de 20h00 à 22h00 : 11 et 31 octobre\, 29 novembre\, 20 décembre\, 31 janvier\, 7 février\, 20 mars et 10 avril. \nInformations complémentaires ici\nContact : 05 59 84 94 20 ou formationpermanentebearn@gmail.com \n\n				\n					\n					\n									\n										Facebook\n									\n								\n									\n										Twitter\n									\n								\n									\n										Imprimer
URL:https://diocese64.org/evenement/lecture-priante-de-levangile-selon-saint-jean-1-9-a-soumoulou-par-la-formation-permanente-en-bearn/2023-10-31/
LOCATION:Salle paroissiale de Soumoulou\, Soumoulou\, 64420
CATEGORIES:Béarn,Services diocésains
ATTACH;FMTTYPE=image/png:https://diocese64.org/site/wp-content/uploads/2023/09/Formation-perm-bearn-2023-2024.png
END:VEVENT
END:VCALENDAR