BEGIN:VCALENDAR
VERSION:2.0
PRODID:-//Diocese 64 - ECPv6.15.20//NONSGML v1.0//EN
CALSCALE:GREGORIAN
METHOD:PUBLISH
X-WR-CALNAME:Diocese 64
X-ORIGINAL-URL:https://diocese64.org
X-WR-CALDESC:Évènements pour Diocese 64
REFRESH-INTERVAL;VALUE=DURATION:PT1H
X-Robots-Tag:noindex
X-PUBLISHED-TTL:PT1H
BEGIN:VTIMEZONE
TZID:Europe/Paris
BEGIN:DAYLIGHT
TZOFFSETFROM:+0100
TZOFFSETTO:+0200
TZNAME:CEST
DTSTART:20230326T010000
END:DAYLIGHT
BEGIN:STANDARD
TZOFFSETFROM:+0200
TZOFFSETTO:+0100
TZNAME:CET
DTSTART:20231029T010000
END:STANDARD
BEGIN:DAYLIGHT
TZOFFSETFROM:+0100
TZOFFSETTO:+0200
TZNAME:CEST
DTSTART:20240331T010000
END:DAYLIGHT
BEGIN:STANDARD
TZOFFSETFROM:+0200
TZOFFSETTO:+0100
TZNAME:CET
DTSTART:20241027T010000
END:STANDARD
BEGIN:DAYLIGHT
TZOFFSETFROM:+0100
TZOFFSETTO:+0200
TZNAME:CEST
DTSTART:20250330T010000
END:DAYLIGHT
BEGIN:STANDARD
TZOFFSETFROM:+0200
TZOFFSETTO:+0100
TZNAME:CET
DTSTART:20251026T010000
END:STANDARD
END:VTIMEZONE
BEGIN:VEVENT
DTSTART;TZID=Europe/Paris:20241022T143000
DTEND;TZID=Europe/Paris:20241022T163000
DTSTAMP:20260422T151129
CREATED:20240923T170738Z
LAST-MODIFIED:20241015T130348Z
UID:23520-1729607400-1729614600@diocese64.org
SUMMARY:Lecture priante selon St Jean (16-21) à Nay par la Formation Permanente du Béarn
DESCRIPTION:Savourer et approfondir l’évangile de Jean (chapitres 16 à 21) avec une lecture priante (Lectio divina).\nPère Fulgence Nguetta\, scj. \nSalle paroissiale de Nay\nMardi de 14h30 à 16h30 : 22 octobre 2024\, 26 novembre\, 18 mars 2025\, 15 avril et 20 mai \nContact : 05 59 84 94 23 ou formationpermanentebearn@gmail.com \nInformations et inscription\n\n				\n					\n					\n									\n										Facebook\n									\n								\n									\n										Twitter\n									\n								\n									\n										Imprimer
URL:https://diocese64.org/evenement/lecture-priante-selon-st-jean-16-21-a-nay-par-la-formation-permanente-du-bearn/
LOCATION:Salle paroissiale – Nay\, Place de l'église\, Nay\, 64800\, France
CATEGORIES:Béarn,Services diocésains
ATTACH;FMTTYPE=image/jpeg:https://diocese64.org/site/wp-content/uploads/2023/08/formation-permanente-bearn-Copie-e1728997637266.jpg
END:VEVENT
END:VCALENDAR