BEGIN:VCALENDAR
VERSION:2.0
PRODID:-//Diocese 64 - ECPv6.15.20//NONSGML v1.0//EN
CALSCALE:GREGORIAN
METHOD:PUBLISH
X-WR-CALNAME:Diocese 64
X-ORIGINAL-URL:https://diocese64.org
X-WR-CALDESC:Évènements pour Diocese 64
REFRESH-INTERVAL;VALUE=DURATION:PT1H
X-Robots-Tag:noindex
X-PUBLISHED-TTL:PT1H
BEGIN:VTIMEZONE
TZID:Europe/Paris
BEGIN:DAYLIGHT
TZOFFSETFROM:+0100
TZOFFSETTO:+0200
TZNAME:CEST
DTSTART:20250330T010000
END:DAYLIGHT
BEGIN:STANDARD
TZOFFSETFROM:+0200
TZOFFSETTO:+0100
TZNAME:CET
DTSTART:20251026T010000
END:STANDARD
BEGIN:DAYLIGHT
TZOFFSETFROM:+0100
TZOFFSETTO:+0200
TZNAME:CEST
DTSTART:20260329T010000
END:DAYLIGHT
BEGIN:STANDARD
TZOFFSETFROM:+0200
TZOFFSETTO:+0100
TZNAME:CET
DTSTART:20261025T010000
END:STANDARD
BEGIN:DAYLIGHT
TZOFFSETFROM:+0100
TZOFFSETTO:+0200
TZNAME:CEST
DTSTART:20270328T010000
END:DAYLIGHT
BEGIN:STANDARD
TZOFFSETFROM:+0200
TZOFFSETTO:+0100
TZNAME:CET
DTSTART:20271031T010000
END:STANDARD
END:VTIMEZONE
BEGIN:VEVENT
DTSTART;TZID=Europe/Paris:20260314T143000
DTEND;TZID=Europe/Paris:20260314T170000
DTSTAMP:20260421T110854
CREATED:20250626T195718Z
LAST-MODIFIED:20260210T085601Z
UID:10002730-1773498600-1773507600@diocese64.org
SUMMARY:Les Béatitudes	- Temps de Carême par la Formation Permanente du Béarn à Pau
DESCRIPTION:Le service de Formation Permanente du Béarn propose de travailler le texte des Béatitudes à l’aide d’une catéchèse d’adultes pratiquée avec la méthode Mess’AJE pour redécouvrir la signification du bonheur dans la Bible. Un temps fort de Carême les samedis afin de découvrir ou d’approfondir la foi chrétienne\, à partir d’un montage audiovisuel et des textes de la Bible : temps d’exposés\, d’échanges et de prière. Formation animée par Marie-Line SILLIERES et Marie-Lou THIERY au Centre Diocésain du Béarn à Pau. \nSamedi 28 février 2026\, 7 et 14 mars de 14h30 à 17h00 et\nSamedi 28 mars 2026 de 9h30 à 17h00. \nInscription avant le 18 février 2026 \n— \nauprès du Secrétariat de la Formation Permanente : 05 59 84 94 23  ou  formationpermanentebearn@gmail.com. Frais annuel de participation : 50€ \n \nBulletin d’inscription\n\n				\n					\n					\n									\n										Facebook\n									\n								\n									\n										Twitter\n									\n								\n									\n										Imprimer
URL:https://diocese64.org/evenement/les-beatitudes-par-la-formation-permanente-du-bearn-a-pau/2026-03-14/
LOCATION:Centre Diocésain du Béarn\, 36 av de l'église Saint-Joseph\, Pau\, 64000\, France
CATEGORIES:Béarn,Services diocésains
ATTACH;FMTTYPE=image/jpeg:https://diocese64.org/site/wp-content/uploads/2023/08/formation-permanente-bearn-Copie-e1728997637266.jpg
END:VEVENT
END:VCALENDAR