BEGIN:VCALENDAR
VERSION:2.0
PRODID:-//Diocese 64 - ECPv6.15.20//NONSGML v1.0//EN
CALSCALE:GREGORIAN
METHOD:PUBLISH
X-WR-CALNAME:Diocese 64
X-ORIGINAL-URL:https://diocese64.org
X-WR-CALDESC:Évènements pour Diocese 64
REFRESH-INTERVAL;VALUE=DURATION:PT1H
X-Robots-Tag:noindex
X-PUBLISHED-TTL:PT1H
BEGIN:VTIMEZONE
TZID:Europe/Paris
BEGIN:DAYLIGHT
TZOFFSETFROM:+0100
TZOFFSETTO:+0200
TZNAME:CEST
DTSTART:20230326T010000
END:DAYLIGHT
BEGIN:STANDARD
TZOFFSETFROM:+0200
TZOFFSETTO:+0100
TZNAME:CET
DTSTART:20231029T010000
END:STANDARD
BEGIN:DAYLIGHT
TZOFFSETFROM:+0100
TZOFFSETTO:+0200
TZNAME:CEST
DTSTART:20240331T010000
END:DAYLIGHT
BEGIN:STANDARD
TZOFFSETFROM:+0200
TZOFFSETTO:+0100
TZNAME:CET
DTSTART:20241027T010000
END:STANDARD
BEGIN:DAYLIGHT
TZOFFSETFROM:+0100
TZOFFSETTO:+0200
TZNAME:CEST
DTSTART:20250330T010000
END:DAYLIGHT
BEGIN:STANDARD
TZOFFSETFROM:+0200
TZOFFSETTO:+0100
TZNAME:CET
DTSTART:20251026T010000
END:STANDARD
END:VTIMEZONE
BEGIN:VEVENT
DTSTART;TZID=Europe/Paris:20241011T203000
DTEND;TZID=Europe/Paris:20241011T223000
DTSTAMP:20260422T150233
CREATED:20240923T170517Z
LAST-MODIFIED:20241007T121441Z
UID:23564-1728678600-1728685800@diocese64.org
SUMMARY:Nouveau -  « Parcours Wahou » - Formation Permanente au CDB de Pau - Reporté à une date ultérieure
DESCRIPTION:La rencontre est provisoirement annulée et reportée à une date ultérieure. \n\nLa Formation Permanente  propose au Centre Diocésain du Béarn à Pau\, un nouveau parcours destiné à (re)découvrir la théologie du corps selon Saint Jean-Paul 2\, destiné aux couples et personnes seules\, jeunes et moins jeunes.\n\nAbbé Pierre HARAMBURU \nSoirée de présentation à 20h30 le vendredi 11 octobre 2024 – Participation de 50 euros (livre participant compris) \nPlus d’infos et inscription\n  \n\n				\n					\n					\n									\n										Facebook\n									\n								\n									\n										Twitter\n									\n								\n									\n										Imprimer
URL:https://diocese64.org/evenement/nouveau-parcours-wahou-formation-permanente-au-cdb-de-pau/
LOCATION:Centre Diocésain du Béarn\, 36 av de l'église Saint-Joseph\, Pau\, 64000\, France
CATEGORIES:Béarn,Services diocésains
ATTACH;FMTTYPE=image/jpeg:https://diocese64.org/site/wp-content/uploads/2023/08/formation-permanente-bearn-Copie-e1728997637266.jpg
END:VEVENT
END:VCALENDAR