BEGIN:VCALENDAR
VERSION:2.0
PRODID:-//Diocese 64 - ECPv6.15.20//NONSGML v1.0//EN
CALSCALE:GREGORIAN
METHOD:PUBLISH
X-WR-CALNAME:Diocese 64
X-ORIGINAL-URL:https://diocese64.org
X-WR-CALDESC:Évènements pour Diocese 64
REFRESH-INTERVAL;VALUE=DURATION:PT1H
X-Robots-Tag:noindex
X-PUBLISHED-TTL:PT1H
BEGIN:VTIMEZONE
TZID:Europe/Paris
BEGIN:DAYLIGHT
TZOFFSETFROM:+0100
TZOFFSETTO:+0200
TZNAME:CEST
DTSTART:20250330T010000
END:DAYLIGHT
BEGIN:STANDARD
TZOFFSETFROM:+0200
TZOFFSETTO:+0100
TZNAME:CET
DTSTART:20251026T010000
END:STANDARD
BEGIN:DAYLIGHT
TZOFFSETFROM:+0100
TZOFFSETTO:+0200
TZNAME:CEST
DTSTART:20260329T010000
END:DAYLIGHT
BEGIN:STANDARD
TZOFFSETFROM:+0200
TZOFFSETTO:+0100
TZNAME:CET
DTSTART:20261025T010000
END:STANDARD
BEGIN:DAYLIGHT
TZOFFSETFROM:+0100
TZOFFSETTO:+0200
TZNAME:CEST
DTSTART:20270328T010000
END:DAYLIGHT
BEGIN:STANDARD
TZOFFSETFROM:+0200
TZOFFSETTO:+0100
TZNAME:CET
DTSTART:20271031T010000
END:STANDARD
END:VTIMEZONE
BEGIN:VEVENT
DTSTART;TZID=Europe/Paris:20260605T181500
DTEND;TZID=Europe/Paris:20260605T210000
DTSTAMP:20260421T140405
CREATED:20260420T130909Z
LAST-MODIFIED:20260420T130909Z
UID:10002894-1780683300-1780693200@diocese64.org
SUMMARY:« Open Shabbat » avec la Communauté des Béatitudes de Nay
DESCRIPTION:Selon sa vocation de prier pour et avec le peuple juif\, la Communauté des Béatitudes s’unit à la prière familiale d’entrée dans le shabbat\, tous les vendredis soir. Venez partager ce moment vendredi 1er mai ou vendredi 5 juin 2026. La prière du shabbat commence à 19h. Elle nécessite une explication préalable indispensable à 18h15. — \nLe dîner faisant partie de la soirée\, une inscription par mail est nécessaire : accueilbeatitudesnay@gmail.com \nhttps://nay.beatitudes.org – Tel : 07 66 84 10 83 \n\n				\n					\n					\n									\n										Facebook\n									\n								\n									\n										Twitter\n									\n								\n									\n										Imprimer
URL:https://diocese64.org/evenement/open-shabbat-avec-la-communaute-des-beatitudes-de-nay/2026-06-05/
LOCATION:Communauté des Béatitudes – Nay\, 18 côte St Martin\, Nay\, 64800\, France
CATEGORIES:Béarn,Communautés religieuses
ATTACH;FMTTYPE=image/jpeg:https://diocese64.org/site/wp-content/uploads/2026/04/Shabbat-les-Beatitudes.jpg
END:VEVENT
END:VCALENDAR