BEGIN:VCALENDAR
VERSION:2.0
PRODID:-//Diocese 64 - ECPv6.15.20//NONSGML v1.0//EN
CALSCALE:GREGORIAN
METHOD:PUBLISH
X-WR-CALNAME:Diocese 64
X-ORIGINAL-URL:https://diocese64.org
X-WR-CALDESC:Évènements pour Diocese 64
REFRESH-INTERVAL;VALUE=DURATION:PT1H
X-Robots-Tag:noindex
X-PUBLISHED-TTL:PT1H
BEGIN:VTIMEZONE
TZID:Europe/Paris
BEGIN:DAYLIGHT
TZOFFSETFROM:+0100
TZOFFSETTO:+0200
TZNAME:CEST
DTSTART:20220327T010000
END:DAYLIGHT
BEGIN:STANDARD
TZOFFSETFROM:+0200
TZOFFSETTO:+0100
TZNAME:CET
DTSTART:20221030T010000
END:STANDARD
BEGIN:DAYLIGHT
TZOFFSETFROM:+0100
TZOFFSETTO:+0200
TZNAME:CEST
DTSTART:20230326T010000
END:DAYLIGHT
BEGIN:STANDARD
TZOFFSETFROM:+0200
TZOFFSETTO:+0100
TZNAME:CET
DTSTART:20231029T010000
END:STANDARD
BEGIN:DAYLIGHT
TZOFFSETFROM:+0100
TZOFFSETTO:+0200
TZNAME:CEST
DTSTART:20240331T010000
END:DAYLIGHT
BEGIN:STANDARD
TZOFFSETFROM:+0200
TZOFFSETTO:+0100
TZNAME:CET
DTSTART:20241027T010000
END:STANDARD
END:VTIMEZONE
BEGIN:VEVENT
DTSTART;VALUE=DATE:20230315
DTEND;VALUE=DATE:20230326
DTSTAMP:20260421T124325
CREATED:20230103T101149Z
LAST-MODIFIED:20230301T091007Z
UID:9736-1678838400-1679788799@diocese64.org
SUMMARY:Pèlerinage : la Jordanie et la Terre Sainte du 15 au 25 mars
DESCRIPTION:En collaboration avec l’agence BIPEL\, le diocèse de Bayonne\, Lescar et Oloron organise prochainement un pèlerinage en Jordanie\, Terre Sainte. \nIl aura lieu du 15 au 25 mars 2023 et sera accompagné par Monsieur l’abbé François de Mesmay\, directeur diocésain de pèlerinages et de Sœur Rebecca de la communauté des Béatitudes. \nToutes les infos (programme et inscription) sur le site pelerinage64.fr ou à l’adresse mail : pelerinages.diocesains@diocese64.org \n\n				\n					\n					\n									\n										Facebook\n									\n								\n									\n										Twitter\n									\n								\n									\n										Imprimer
URL:https://diocese64.org/evenement/pelerinage-la-jordanie-et-la-terre-sainte-du-15-au-25-mars/
LOCATION:Terre Sainte
CATEGORIES:Pèlerinage,Services diocésains
ATTACH;FMTTYPE=image/jpeg:https://diocese64.org/site/wp-content/uploads/2023/01/jerusalem-597025_1920-800x445-1.jpg
ORGANIZER;CN="L'%C3%A9quipe des p%C3%A8lerinages dioc%C3%A9sains":MAILTO:pelerinages.diocesains(@)diocese64.org
END:VEVENT
END:VCALENDAR