BEGIN:VCALENDAR
VERSION:2.0
PRODID:-//Diocese 64 - ECPv6.15.20//NONSGML v1.0//EN
CALSCALE:GREGORIAN
METHOD:PUBLISH
X-WR-CALNAME:Diocese 64
X-ORIGINAL-URL:https://diocese64.org
X-WR-CALDESC:Évènements pour Diocese 64
REFRESH-INTERVAL;VALUE=DURATION:PT1H
X-Robots-Tag:noindex
X-PUBLISHED-TTL:PT1H
BEGIN:VTIMEZONE
TZID:Europe/Paris
BEGIN:DAYLIGHT
TZOFFSETFROM:+0100
TZOFFSETTO:+0200
TZNAME:CEST
DTSTART:20230326T010000
END:DAYLIGHT
BEGIN:STANDARD
TZOFFSETFROM:+0200
TZOFFSETTO:+0100
TZNAME:CET
DTSTART:20231029T010000
END:STANDARD
BEGIN:DAYLIGHT
TZOFFSETFROM:+0100
TZOFFSETTO:+0200
TZNAME:CEST
DTSTART:20240331T010000
END:DAYLIGHT
BEGIN:STANDARD
TZOFFSETFROM:+0200
TZOFFSETTO:+0100
TZNAME:CET
DTSTART:20241027T010000
END:STANDARD
BEGIN:DAYLIGHT
TZOFFSETFROM:+0100
TZOFFSETTO:+0200
TZNAME:CEST
DTSTART:20250330T010000
END:DAYLIGHT
BEGIN:STANDARD
TZOFFSETFROM:+0200
TZOFFSETTO:+0100
TZNAME:CET
DTSTART:20251026T010000
END:STANDARD
END:VTIMEZONE
BEGIN:VEVENT
DTSTART;TZID=Europe/Paris:20240918T203000
DTEND;TZID=Europe/Paris:20240918T223000
DTSTAMP:20260421T123816
CREATED:20240903T152410Z
LAST-MODIFIED:20240903T152410Z
UID:22942-1726691400-1726698600@diocese64.org
SUMMARY:Projection du film "Miracles" de Pierre Barnérias
DESCRIPTION:Mercredi 18 septembre à 20h30\, au centre paroissial de Mazères\, aura lieu la diffusion du film « Miracles » avec présentation du coproducteur Bruno Perrinet.\nPlongez dans une enquête sur 3 énigmes !\nCe film documentaire nous entraine sur les traces de la relique la plus analysée au monde\, le suaire de Turin\, sur une image toujours inexpliquée d’une femme enceinte qui s’est imprimée sur une tunique en fibre végétale du XVI siècle ainsi que sur des écrits uniques dans l’histoire de l’humanité et qui défient tous les records de la littérature mondiale. \nEntrée gratuite – Participation libre aux frais \n \n\n				\n					\n					\n									\n										Facebook\n									\n								\n									\n										Twitter\n									\n								\n									\n										Imprimer
URL:https://diocese64.org/evenement/projection-du-film-miracles-de-pierre-barnerias/
LOCATION:Centre paroissial de Mazères-Lezons\, 9 ter avenue du général de Gaulle\, Mazères-Lezons\, 64110\, France
CATEGORIES:Béarn,Vie paroissiale
ATTACH;FMTTYPE=image/jpeg:https://diocese64.org/site/wp-content/uploads/2024/09/Film-Miracles-18-sept-vignette.jpg
END:VEVENT
END:VCALENDAR