BEGIN:VCALENDAR
VERSION:2.0
PRODID:-//Diocese 64 - ECPv6.15.20//NONSGML v1.0//EN
CALSCALE:GREGORIAN
METHOD:PUBLISH
X-WR-CALNAME:Diocese 64
X-ORIGINAL-URL:https://diocese64.org
X-WR-CALDESC:Évènements pour Diocese 64
REFRESH-INTERVAL;VALUE=DURATION:PT1H
X-Robots-Tag:noindex
X-PUBLISHED-TTL:PT1H
BEGIN:VTIMEZONE
TZID:Europe/Paris
BEGIN:DAYLIGHT
TZOFFSETFROM:+0100
TZOFFSETTO:+0200
TZNAME:CEST
DTSTART:20240331T010000
END:DAYLIGHT
BEGIN:STANDARD
TZOFFSETFROM:+0200
TZOFFSETTO:+0100
TZNAME:CET
DTSTART:20241027T010000
END:STANDARD
BEGIN:DAYLIGHT
TZOFFSETFROM:+0100
TZOFFSETTO:+0200
TZNAME:CEST
DTSTART:20250330T010000
END:DAYLIGHT
BEGIN:STANDARD
TZOFFSETFROM:+0200
TZOFFSETTO:+0100
TZNAME:CET
DTSTART:20251026T010000
END:STANDARD
BEGIN:DAYLIGHT
TZOFFSETFROM:+0100
TZOFFSETTO:+0200
TZNAME:CEST
DTSTART:20260329T010000
END:DAYLIGHT
BEGIN:STANDARD
TZOFFSETFROM:+0200
TZOFFSETTO:+0100
TZNAME:CET
DTSTART:20261025T010000
END:STANDARD
END:VTIMEZONE
BEGIN:VEVENT
DTSTART;TZID=Europe/Paris:20250430T183000
DTEND;TZID=Europe/Paris:20250430T203000
DTSTAMP:20260422T163633
CREATED:20250313T174308Z
LAST-MODIFIED:20250422T160553Z
UID:27397-1746037800-1746045000@diocese64.org
SUMMARY:Qu’est-ce-que l’Église ? Pourquoi l’Église ? par la Formation Permanente du Béarn
DESCRIPTION:Mercredi 30 avril 2025 à 18h30\, le service de Formation Permanente du Béarn\, propose la suite de la conférence sur la Constitution du Concile Vatican II sur l’Église : « Lumen Gentium » (le Christ est la lumière des peuples). Un regard posé sur le mystère de l’Église. Qu’est-ce-que l’Église\, pourquoi l’Église ? \nCette rencontre mensuelle est assurée par le Père Michel Leclère\, prieur des Chanoines de la Mère de Dieu et se tiendra à  l’Etablissement de l’Immac à Pau \nRenseignements : formationpermanentebearn@gmail.com \n\n				\n					\n					\n									\n										Facebook\n									\n								\n									\n										Twitter\n									\n								\n									\n										Imprimer
URL:https://diocese64.org/evenement/quest-ce-que-leglise-pourquoi-leglise-par-la-formation-permanente-du-bearn-2/
LOCATION:Ensemble scolaire Immaculée Conception\, Boulevard Edouard Herriot\, Pau\, 64000\, France
CATEGORIES:Béarn,Services diocésains
ATTACH;FMTTYPE=image/jpeg:https://diocese64.org/site/wp-content/uploads/2023/08/formation-permanente-bearn-Copie-e1728997637266.jpg
END:VEVENT
END:VCALENDAR