BEGIN:VCALENDAR
VERSION:2.0
PRODID:-//Diocese 64 - ECPv6.15.20//NONSGML v1.0//EN
CALSCALE:GREGORIAN
METHOD:PUBLISH
X-WR-CALNAME:Diocese 64
X-ORIGINAL-URL:https://diocese64.org
X-WR-CALDESC:Évènements pour Diocese 64
REFRESH-INTERVAL;VALUE=DURATION:PT1H
X-Robots-Tag:noindex
X-PUBLISHED-TTL:PT1H
BEGIN:VTIMEZONE
TZID:Europe/Paris
BEGIN:DAYLIGHT
TZOFFSETFROM:+0100
TZOFFSETTO:+0200
TZNAME:CEST
DTSTART:20240331T010000
END:DAYLIGHT
BEGIN:STANDARD
TZOFFSETFROM:+0200
TZOFFSETTO:+0100
TZNAME:CET
DTSTART:20241027T010000
END:STANDARD
BEGIN:DAYLIGHT
TZOFFSETFROM:+0100
TZOFFSETTO:+0200
TZNAME:CEST
DTSTART:20250330T010000
END:DAYLIGHT
BEGIN:STANDARD
TZOFFSETFROM:+0200
TZOFFSETTO:+0100
TZNAME:CET
DTSTART:20251026T010000
END:STANDARD
BEGIN:DAYLIGHT
TZOFFSETFROM:+0100
TZOFFSETTO:+0200
TZNAME:CEST
DTSTART:20260329T010000
END:DAYLIGHT
BEGIN:STANDARD
TZOFFSETFROM:+0200
TZOFFSETTO:+0100
TZNAME:CET
DTSTART:20261025T010000
END:STANDARD
END:VTIMEZONE
BEGIN:VEVENT
DTSTART;TZID=Europe/Paris:20250225T093000
DTEND;TZID=Europe/Paris:20250225T160000
DTSTAMP:20260421T123719
CREATED:20250113T170726Z
LAST-MODIFIED:20250211T164317Z
UID:26156-1740475800-1740499200@diocese64.org
SUMMARY:Rassemblement des enfants catéchisés en Basque
DESCRIPTION:2025 Otsaila 25 an\, katiximaren besta euskaraz\, Uztaritzen \nHeldu den Otsailaren 25 an\, asteartez\, katixima euskaraz edo elebidunez segitzen duten haurrentzat\, elgarretaratze bat antolatua da Euskal herri guzitik. Auten bilduko gira San Frantses Kolegioan… Agian haur eta laguntzaile asko bilduko gira\, bertze urtetan bezala. \nAurtengo lema : « 12 eta esperantza » \nKontaktua : barnetche.jean-michel@orange.fr \nLes enfants du catéchisme en basque se rassembleront à Ustaritz\, au Collège Saint François Xavier\, le mardi 25 février 2025\, de 9h30 à 16h\, sur le thème : « 12 et l’Espérance ». \n \n\n				\n					\n					\n									\n										Facebook\n									\n								\n									\n										Twitter\n									\n								\n									\n										Imprimer
URL:https://diocese64.org/evenement/rassemblement-des-enfants-catechises-en-basque/
LOCATION:Collège Saint-François-Xavier – Ustaritz\, 255 rue Saint-Michel\, Ustaritz\, 64480
CATEGORIES:Pays Basque,Services diocésains
ATTACH;FMTTYPE=image/png:https://diocese64.org/site/wp-content/uploads/2024/01/Cate-en-basque.png
END:VEVENT
END:VCALENDAR