BEGIN:VCALENDAR
VERSION:2.0
PRODID:-//Diocese 64 - ECPv6.15.20//NONSGML v1.0//EN
CALSCALE:GREGORIAN
METHOD:PUBLISH
X-WR-CALNAME:Diocese 64
X-ORIGINAL-URL:https://diocese64.org
X-WR-CALDESC:Évènements pour Diocese 64
REFRESH-INTERVAL;VALUE=DURATION:PT1H
X-Robots-Tag:noindex
X-PUBLISHED-TTL:PT1H
BEGIN:VTIMEZONE
TZID:Europe/Paris
BEGIN:DAYLIGHT
TZOFFSETFROM:+0100
TZOFFSETTO:+0200
TZNAME:CEST
DTSTART:20240331T010000
END:DAYLIGHT
BEGIN:STANDARD
TZOFFSETFROM:+0200
TZOFFSETTO:+0100
TZNAME:CET
DTSTART:20241027T010000
END:STANDARD
BEGIN:DAYLIGHT
TZOFFSETFROM:+0100
TZOFFSETTO:+0200
TZNAME:CEST
DTSTART:20250330T010000
END:DAYLIGHT
BEGIN:STANDARD
TZOFFSETFROM:+0200
TZOFFSETTO:+0100
TZNAME:CET
DTSTART:20251026T010000
END:STANDARD
BEGIN:DAYLIGHT
TZOFFSETFROM:+0100
TZOFFSETTO:+0200
TZNAME:CEST
DTSTART:20260329T010000
END:DAYLIGHT
BEGIN:STANDARD
TZOFFSETFROM:+0200
TZOFFSETTO:+0100
TZNAME:CET
DTSTART:20261025T010000
END:STANDARD
END:VTIMEZONE
BEGIN:VEVENT
DTSTART;TZID=Europe/Paris:20250510T120000
DTEND;TZID=Europe/Paris:20250511T130000
DTSTAMP:20260422T125244
CREATED:20250428T082545Z
LAST-MODIFIED:20250428T141904Z
UID:25448-1746878400-1746968400@diocese64.org
SUMMARY:Rassemblement diocésain des 4èmes/3èmes  à Lourdes
DESCRIPTION:Le rassemblement est annulé. \nDu samedi 10 mai 2025 à 12h au dimanche 11 mai à 13h se tiendra à Lourdes le rassemblement diocésain des 4èmes et 3èmes sur le thème de l’Espérance. \nLogement au village des jeunes\nTarif : 35 euros.\nRassemblement organisé par : acep@diocese64.org \n \n  \n\n				\n					\n					\n									\n										Facebook\n									\n								\n									\n										Twitter\n									\n								\n									\n										Imprimer
URL:https://diocese64.org/evenement/rassemblement-diocesain-des-4emes-3emes-a-lourdes/
LOCATION:Lourdes\, Lourdes\, 65100
CATEGORIES:Aumônerie de l'enseignement public,Evénement diocésain,Hors diocèse,Mouvements et Associations
ATTACH;FMTTYPE=image/jpeg:https://diocese64.org/site/wp-content/uploads/2022/12/Aumoneries-de-lEnseignement-Public.jpg
END:VEVENT
END:VCALENDAR