BEGIN:VCALENDAR
VERSION:2.0
PRODID:-//Diocese 64 - ECPv6.15.20//NONSGML v1.0//EN
CALSCALE:GREGORIAN
METHOD:PUBLISH
X-WR-CALNAME:Diocese 64
X-ORIGINAL-URL:https://diocese64.org
X-WR-CALDESC:Évènements pour Diocese 64
REFRESH-INTERVAL;VALUE=DURATION:PT1H
X-Robots-Tag:noindex
X-PUBLISHED-TTL:PT1H
BEGIN:VTIMEZONE
TZID:Europe/Paris
BEGIN:DAYLIGHT
TZOFFSETFROM:+0100
TZOFFSETTO:+0200
TZNAME:CEST
DTSTART:20240331T010000
END:DAYLIGHT
BEGIN:STANDARD
TZOFFSETFROM:+0200
TZOFFSETTO:+0100
TZNAME:CET
DTSTART:20241027T010000
END:STANDARD
BEGIN:DAYLIGHT
TZOFFSETFROM:+0100
TZOFFSETTO:+0200
TZNAME:CEST
DTSTART:20250330T010000
END:DAYLIGHT
BEGIN:STANDARD
TZOFFSETFROM:+0200
TZOFFSETTO:+0100
TZNAME:CET
DTSTART:20251026T010000
END:STANDARD
BEGIN:DAYLIGHT
TZOFFSETFROM:+0100
TZOFFSETTO:+0200
TZNAME:CEST
DTSTART:20260329T010000
END:DAYLIGHT
BEGIN:STANDARD
TZOFFSETFROM:+0200
TZOFFSETTO:+0100
TZNAME:CET
DTSTART:20261025T010000
END:STANDARD
END:VTIMEZONE
BEGIN:VEVENT
DTSTART;TZID=Europe/Paris:20250114T093000
DTEND;TZID=Europe/Paris:20250114T113000
DTSTAMP:20260419T203444
CREATED:20241128T154516Z
LAST-MODIFIED:20241128T154516Z
UID:10001846-1736847000-1736854200@diocese64.org
SUMMARY:Session d’écoute « habiter ma place d’aidant » avec Coteaux Païs
DESCRIPTION:L’un de vos proches est âgé\, malade ou handicapé\, à domicile ou en structure d’accueil ? L’Association Coteaux Païs de Pau organise une session d’écoute\, d’échange et prière\, « habiter ma place d’aidant »\, mardi 14 janvier 2025\, de 9h30 à 11h30\, à la Bibliothèque de Culture Religieuse de Pau (4 av. Edouard VII). \nD’autres rencontres sont prévues les mardis 28 janvier\, 4 et 18 février 2025 \nInscriptions : 07 86 55 74 66 – pau@coteaux-pais.net \n \n\n				\n					\n					\n									\n										Facebook\n									\n								\n									\n										Twitter\n									\n								\n									\n										Imprimer
URL:https://diocese64.org/evenement/session-decoute-habiter-ma-place-daidant-avec-coteaux-pais/2025-01-14/
LOCATION:Bibliothèque de Culture Religieuse de Pau\, 4 avenue Edouard VII\, Pau\, 64000
CATEGORIES:Béarn,Mouvements et Associations
ATTACH;FMTTYPE=image/jpeg:https://diocese64.org/site/wp-content/uploads/2022/12/Coteaux-Pais-Exercices-de-Saint-Ignace.jpg
END:VEVENT
END:VCALENDAR