BEGIN:VCALENDAR
VERSION:2.0
PRODID:-//Diocese 64 - ECPv6.15.20//NONSGML v1.0//EN
CALSCALE:GREGORIAN
METHOD:PUBLISH
X-WR-CALNAME:Diocese 64
X-ORIGINAL-URL:https://diocese64.org
X-WR-CALDESC:Évènements pour Diocese 64
REFRESH-INTERVAL;VALUE=DURATION:PT1H
X-Robots-Tag:noindex
X-PUBLISHED-TTL:PT1H
BEGIN:VTIMEZONE
TZID:Europe/Paris
BEGIN:DAYLIGHT
TZOFFSETFROM:+0100
TZOFFSETTO:+0200
TZNAME:CEST
DTSTART:20240331T010000
END:DAYLIGHT
BEGIN:STANDARD
TZOFFSETFROM:+0200
TZOFFSETTO:+0100
TZNAME:CET
DTSTART:20241027T010000
END:STANDARD
BEGIN:DAYLIGHT
TZOFFSETFROM:+0100
TZOFFSETTO:+0200
TZNAME:CEST
DTSTART:20250330T010000
END:DAYLIGHT
BEGIN:STANDARD
TZOFFSETFROM:+0200
TZOFFSETTO:+0100
TZNAME:CET
DTSTART:20251026T010000
END:STANDARD
BEGIN:DAYLIGHT
TZOFFSETFROM:+0100
TZOFFSETTO:+0200
TZNAME:CEST
DTSTART:20260329T010000
END:DAYLIGHT
BEGIN:STANDARD
TZOFFSETFROM:+0200
TZOFFSETTO:+0100
TZNAME:CET
DTSTART:20261025T010000
END:STANDARD
END:VTIMEZONE
BEGIN:VEVENT
DTSTART;TZID=Europe/Paris:20250716T090000
DTEND;TZID=Europe/Paris:20250718T110000
DTSTAMP:20260419T190946
CREATED:20250707T153815Z
LAST-MODIFIED:20250709T085100Z
UID:29841-1752656400-1752836400@diocese64.org
SUMMARY:Session d’été 2025 sur le Cantique des Cantiques à Urt
DESCRIPTION:Du mercredi 16 juillet à 9h au vendredi 18 juillet 2025 à 11h\, est organisée une session d’été sur le Cantique des Cantiques au Monastère Sainte Scholastique à Urt. \nFrère Jean-Michel Bortheirie vous expliquera que le Cantique des Cantiques n’est pas seulement un beau poème d’amour\, mais un des textes théologiques les plus profonds de l’Ancien Testament. \nContact et Inscription : accueil@genedictinsurt.fr \n \n\n				\n					\n					\n									\n										Facebook\n									\n								\n									\n										Twitter\n									\n								\n									\n										Imprimer
URL:https://diocese64.org/evenement/session-dete-2025-sur-le-cantique-des-cantiques-a-urt/
LOCATION:Monastère Sainte Scholastique – Urt\, D510\, Urt\, 64240
CATEGORIES:Communautés religieuses,Pays Basque
ATTACH;FMTTYPE=image/jpeg:https://diocese64.org/site/wp-content/uploads/2025/06/Monastere-Ste-Scholastique-Urt.jpg
END:VEVENT
END:VCALENDAR