BEGIN:VCALENDAR
VERSION:2.0
PRODID:-//Diocese 64 - ECPv6.15.20//NONSGML v1.0//EN
CALSCALE:GREGORIAN
METHOD:PUBLISH
X-WR-CALNAME:Diocese 64
X-ORIGINAL-URL:https://diocese64.org
X-WR-CALDESC:Évènements pour Diocese 64
REFRESH-INTERVAL;VALUE=DURATION:PT1H
X-Robots-Tag:noindex
X-PUBLISHED-TTL:PT1H
BEGIN:VTIMEZONE
TZID:Europe/Paris
BEGIN:DAYLIGHT
TZOFFSETFROM:+0100
TZOFFSETTO:+0200
TZNAME:CEST
DTSTART:20240331T010000
END:DAYLIGHT
BEGIN:STANDARD
TZOFFSETFROM:+0200
TZOFFSETTO:+0100
TZNAME:CET
DTSTART:20241027T010000
END:STANDARD
BEGIN:DAYLIGHT
TZOFFSETFROM:+0100
TZOFFSETTO:+0200
TZNAME:CEST
DTSTART:20250330T010000
END:DAYLIGHT
BEGIN:STANDARD
TZOFFSETFROM:+0200
TZOFFSETTO:+0100
TZNAME:CET
DTSTART:20251026T010000
END:STANDARD
BEGIN:DAYLIGHT
TZOFFSETFROM:+0100
TZOFFSETTO:+0200
TZNAME:CEST
DTSTART:20260329T010000
END:DAYLIGHT
BEGIN:STANDARD
TZOFFSETFROM:+0200
TZOFFSETTO:+0100
TZNAME:CET
DTSTART:20261025T010000
END:STANDARD
END:VTIMEZONE
BEGIN:VEVENT
DTSTART;VALUE=DATE:20250321
DTEND;VALUE=DATE:20250323
DTSTAMP:20260419T203541
CREATED:20250213T171053Z
LAST-MODIFIED:20250311T153139Z
UID:26896-1742515200-1742687999@diocese64.org
SUMMARY:Simone Weil (Philosophe - 1909-1943) – Parcours d’une vie et d’une œuvre - Cours par l’ATPA
DESCRIPTION:Une formation dispensée à Notre-Dame de Buglose\, les vendredi 21 et samedi 22 mars 2025\, de 9h à 12h et de 13h à 16h\, est organisée par l’ATPA (Antenne de Théologie des Pays de l’Adour). Elle sera animée par E. Gabellieri\, Professeur Agrégé et Docteur ès lettres HDR émérite à la faculté de Philosophie (Université catholique de Lyon). Le thème : Simone Weil (1909-1943) – Parcours d’une vie et d’une œuvre. \nLa réception de la pensée de S.Weil a été longtemps difficile\, toute son œuvre étant constituée de recueils posthumes qu’elle n’a pas composés et achevés elle-même. Après un rappel de son itinéraire\, on se penchera surtout sur l’extraordinaire synthèse qu’elle opère de 1941 à 1943… qui en fait notamment une précurseure de bien des questions qui sont les nôtres aujourd’hui. \nFormation ouverte à tous \nBulletin d’inscription\n \n\n				\n					\n					\n									\n										Facebook\n									\n								\n									\n										Twitter\n									\n								\n									\n										Imprimer
URL:https://diocese64.org/evenement/simone-weil-philosophe-1909-1943-parcours-dune-vie-et-dune-oeuvre-cours-par-latpa/
LOCATION:Buglose\, Buglose\, 40180\, France
CATEGORIES:Béarn,Pays Basque,Services diocésains
ATTACH;FMTTYPE=image/jpeg:https://diocese64.org/site/wp-content/uploads/2024/06/atpa2.jpg
ORGANIZER;CN="ATPA":MAILTO:atpa.theologie2@gmail.com
END:VEVENT
END:VCALENDAR