BEGIN:VCALENDAR
VERSION:2.0
PRODID:-//Diocese 64 - ECPv6.15.20//NONSGML v1.0//EN
CALSCALE:GREGORIAN
METHOD:PUBLISH
X-WR-CALNAME:Diocese 64
X-ORIGINAL-URL:https://diocese64.org
X-WR-CALDESC:Évènements pour Diocese 64
REFRESH-INTERVAL;VALUE=DURATION:PT1H
X-Robots-Tag:noindex
X-PUBLISHED-TTL:PT1H
BEGIN:VTIMEZONE
TZID:Europe/Paris
BEGIN:DAYLIGHT
TZOFFSETFROM:+0100
TZOFFSETTO:+0200
TZNAME:CEST
DTSTART:20220327T010000
END:DAYLIGHT
BEGIN:STANDARD
TZOFFSETFROM:+0200
TZOFFSETTO:+0100
TZNAME:CET
DTSTART:20221030T010000
END:STANDARD
BEGIN:DAYLIGHT
TZOFFSETFROM:+0100
TZOFFSETTO:+0200
TZNAME:CEST
DTSTART:20230326T010000
END:DAYLIGHT
BEGIN:STANDARD
TZOFFSETFROM:+0200
TZOFFSETTO:+0100
TZNAME:CET
DTSTART:20231029T010000
END:STANDARD
BEGIN:DAYLIGHT
TZOFFSETFROM:+0100
TZOFFSETTO:+0200
TZNAME:CEST
DTSTART:20240331T010000
END:DAYLIGHT
BEGIN:STANDARD
TZOFFSETFROM:+0200
TZOFFSETTO:+0100
TZNAME:CET
DTSTART:20241027T010000
END:STANDARD
END:VTIMEZONE
BEGIN:VEVENT
DTSTART;TZID=Europe/Paris:20231020T170000
DTEND;TZID=Europe/Paris:20231022T170000
DTSTAMP:20260421T123712
CREATED:20231009T103408Z
LAST-MODIFIED:20231009T103408Z
UID:16157-1697821200-1697994000@diocese64.org
SUMMARY:Week-end pour les hommes
DESCRIPTION:Les frères et sœurs de la Communauté des Béatitudes de Nay organisent un week-end pour les hommes.\nIl a lieu du vendredi 20 octobre 17h au dimanche 22 octobre 17h. \nFormation\, transformation\, transfiguration :\nSamedi : randonnée entre hommes dans les Pyrénées avec messe\, enseignement\, pique-nique. Retour au monastère pour les Vêpres et la soirée.\nDimanche temps sportif le matin\, suivi de la messe dominicale. Enseignement l’après midi\, temps de partage fraternel. \nPour tout renseignement et inscription :\naccueilbeatitudesnay@gmail.com ou au 07 66 84 10 83 \n\n				\n					\n					\n									\n										Facebook\n									\n								\n									\n										Twitter\n									\n								\n									\n										Imprimer
URL:https://diocese64.org/evenement/week-end-pour-les-hommes/
LOCATION:Communauté des Béatitudes – Nay\, 18 côte St Martin\, Nay\, 64800\, France
CATEGORIES:Béarn,Communautés religieuses
ATTACH;FMTTYPE=image/jpeg:https://diocese64.org/site/wp-content/uploads/2023/10/weekend-pour-les-hommes-beatitudes.jpg
END:VEVENT
END:VCALENDAR