BEGIN:VCALENDAR
VERSION:2.0
PRODID:-//Diocese 64 - ECPv6.15.20//NONSGML v1.0//EN
CALSCALE:GREGORIAN
METHOD:PUBLISH
X-ORIGINAL-URL:https://diocese64.org
X-WR-CALDESC:Évènements pour Diocese 64
REFRESH-INTERVAL;VALUE=DURATION:PT1H
X-Robots-Tag:noindex
X-PUBLISHED-TTL:PT1H
BEGIN:VTIMEZONE
TZID:Europe/Paris
BEGIN:DAYLIGHT
TZOFFSETFROM:+0100
TZOFFSETTO:+0200
TZNAME:CEST
DTSTART:20220327T010000
END:DAYLIGHT
BEGIN:STANDARD
TZOFFSETFROM:+0200
TZOFFSETTO:+0100
TZNAME:CET
DTSTART:20221030T010000
END:STANDARD
BEGIN:DAYLIGHT
TZOFFSETFROM:+0100
TZOFFSETTO:+0200
TZNAME:CEST
DTSTART:20230326T010000
END:DAYLIGHT
BEGIN:STANDARD
TZOFFSETFROM:+0200
TZOFFSETTO:+0100
TZNAME:CET
DTSTART:20231029T010000
END:STANDARD
BEGIN:DAYLIGHT
TZOFFSETFROM:+0100
TZOFFSETTO:+0200
TZNAME:CEST
DTSTART:20240331T010000
END:DAYLIGHT
BEGIN:STANDARD
TZOFFSETFROM:+0200
TZOFFSETTO:+0100
TZNAME:CET
DTSTART:20241027T010000
END:STANDARD
BEGIN:DAYLIGHT
TZOFFSETFROM:+0100
TZOFFSETTO:+0200
TZNAME:CEST
DTSTART:20250330T010000
END:DAYLIGHT
BEGIN:STANDARD
TZOFFSETFROM:+0200
TZOFFSETTO:+0100
TZNAME:CET
DTSTART:20251026T010000
END:STANDARD
BEGIN:DAYLIGHT
TZOFFSETFROM:+0100
TZOFFSETTO:+0200
TZNAME:CEST
DTSTART:20260329T010000
END:DAYLIGHT
BEGIN:STANDARD
TZOFFSETFROM:+0200
TZOFFSETTO:+0100
TZNAME:CET
DTSTART:20261025T010000
END:STANDARD
BEGIN:DAYLIGHT
TZOFFSETFROM:+0100
TZOFFSETTO:+0200
TZNAME:CEST
DTSTART:20270328T010000
END:DAYLIGHT
BEGIN:STANDARD
TZOFFSETFROM:+0200
TZOFFSETTO:+0100
TZNAME:CET
DTSTART:20271031T010000
END:STANDARD
END:VTIMEZONE
BEGIN:VEVENT
DTSTART;TZID=Europe/Paris:20260218T100000
DTEND;TZID=Europe/Paris:20260218T170000
DTSTAMP:20260419T161449
CREATED:20251020T152445Z
LAST-MODIFIED:20260210T085406Z
UID:10002490-1771408800-1771434000@diocese64.org
SUMMARY:Vive le KT vacances en Haut Béarn – Vallées d’Aspe et de Barétous !
DESCRIPTION:Pour les petits et les plus grands\, les catéchistes et les Frères de Sarrance proposent une journée KT vacances le mercredi 18 février 2026\, de 10h à 17h\, à Sarrance.\nAu programme : jeux – activités manuelles – vidéo – cuisine…. dans une ambiance de vacances et d’amitiés. \n— \nContact : paroisse@ndsarrance.fr –  06 50 50 76 85
URL:https://diocese64.org/evenement/vive-le-kt-vacances-en-haut-bearn-vallees-daspe-et-de-baretous-3/
LOCATION:Monastère de Sarrance\, Sarrance\, 64490
CATEGORIES:Béarn,Vie paroissiale
ATTACH;FMTTYPE=image/png:https://diocese64.org/site/wp-content/uploads/2024/10/KT-Sarrance-vignette.png
END:VEVENT
BEGIN:VEVENT
DTSTART;TZID=Europe/Paris:20251024T100000
DTEND;TZID=Europe/Paris:20251024T170000
DTSTAMP:20260419T161449
CREATED:20251016T161733Z
LAST-MODIFIED:20251023T100331Z
UID:10002477-1761300000-1761325200@diocese64.org
SUMMARY:Vive le KT vacances en Haut Béarn - Vallées d'Aspe et de Barétous !
DESCRIPTION:Pour les petits et les plus grands\, les catéchistes et les Frères de Sarrance proposent une journée KT vacances\, le vendredi 24 octobre 2025 de 10h à 17h\, au monastère de Sarrance. Saint Carlo Acutis « le geek de Dieu » vous donne rendez-vous tout au long de la journée.\nAu programme : Matin découverte d’un passionné d’ordinateur qui surfait sur le net pour annoncer Jésus – jeux – activités manuelles – vidéo …. dans une ambiance de vacances et d’amitiés. \n— \nContact : paroisse@ndsarrance.fr –  06 50 50 76 85 \n 
URL:https://diocese64.org/evenement/vive-le-kt-vacances-en-haut-bearn-vallees-daspe-et-de-baretous-2/
LOCATION:Monastère de Sarrance\, Sarrance\, 64490
CATEGORIES:Vie paroissiale
ATTACH;FMTTYPE=image/png:https://diocese64.org/site/wp-content/uploads/2024/10/KT-Sarrance-vignette.png
END:VEVENT
BEGIN:VEVENT
DTSTART;TZID=Europe/Paris:20240627T100000
DTEND;TZID=Europe/Paris:20240627T160000
DTSTAMP:20260419T161449
CREATED:20240422T142614Z
LAST-MODIFIED:20240625T095837Z
UID:10000989-1719482400-1719504000@diocese64.org
SUMMARY:Halte spirituelle au monastère de Sarrance
DESCRIPTION:Jeudi 27 juin\, les Prémontrés du monastère de Sarrance organisent une halte spirituelle de 10h à 16h.\nAu programme : 2 enseignements par les frères ; messe ; déjeuner tiré du sac ; adoration ; confessions ; chapelet.\nOuvert à tous et sans inscription.\nOffrande libre.\nContact : communaute@ndsarrance.fr
URL:https://diocese64.org/evenement/halte-spirituelle-au-monastere-de-sarrance-2/
LOCATION:Monastère de Sarrance\, Sarrance\, 64490
CATEGORIES:Béarn,Communautés religieuses
ATTACH;FMTTYPE=image/png:https://diocese64.org/site/wp-content/uploads/2024/04/Monastere-de-Sarrance.png
END:VEVENT
BEGIN:VEVENT
DTSTART;TZID=Europe/Paris:20240516T100000
DTEND;TZID=Europe/Paris:20240516T160000
DTSTAMP:20260419T161449
CREATED:20240422T142356Z
LAST-MODIFIED:20240422T142653Z
UID:10000988-1715853600-1715875200@diocese64.org
SUMMARY:Halte spirituelle au monastère de Sarrance
DESCRIPTION:Jeudi 16 mai et jeudi 27 juin\, les Prémontrés du monastère de Sarrance organisent une halte spirituelle de 10h à 16h.\nAu programme : 2 enseignements par les frères ; messe ; déjeuner tiré du sac ; adoration ; confessions ; chapelet.\nOuvert à tous et sans inscription.\nOffrande libre.\nContact : communaute@ndsarrance.fr
URL:https://diocese64.org/evenement/halte-spirituelle-au-monastere-de-sarrance/
LOCATION:Monastère de Sarrance\, Sarrance\, 64490
CATEGORIES:Béarn,Communautés religieuses,Retraite
ATTACH;FMTTYPE=image/png:https://diocese64.org/site/wp-content/uploads/2024/04/Monastere-de-Sarrance.png
END:VEVENT
BEGIN:VEVENT
DTSTART;VALUE=DATE:20230930
DTEND;VALUE=DATE:20231001
DTSTAMP:20260419T161449
CREATED:20230907T124330Z
LAST-MODIFIED:20230907T125851Z
UID:10000489-1696032000-1696118399@diocese64.org
SUMMARY:Journée des servants d'autel
DESCRIPTION:La journée diocésaine des servants d’autel aura lieu le samedi 30 septembre 2023 au monastère de Sarrance\, avec Mgr Aillet. Le thème : « Servir le christ dans la liturgie : quelle mission ! » \n– 10h : arrivée et accueil\n– 10h30 – 11h15 : enseignement et échange avec Mgr Marc Aillet\n– 11h30 : messe avec la communauté\n– 12h15 : pique-nique\n– 13h30 – 15h : jeux\n– 15h30 – 16h15 : temps d’Adoration et de Réconciliation\n– 16h30 : fin de la journée \nInscriptions : peleservants@diocese64.org\nDate limite : mercredi 6 septembre 2023.\nRens :\nPour le Béarn\nMme Marie-Claire Brevart\n06 75 75 27 29\nPour le Pays basque\nMme Claude Marchal\n06 78 68 22 95
URL:https://diocese64.org/evenement/journee-des-servants-dautel/
LOCATION:Monastère de Sarrance\, Sarrance\, 64490
CATEGORIES:Béarn,Pays Basque
ATTACH;FMTTYPE=image/jpeg:https://diocese64.org/site/wp-content/uploads/2023/09/servants-dautel.jpg
END:VEVENT
BEGIN:VEVENT
DTSTART;TZID=Europe/Paris:20230902T210000
DTEND;TZID=Europe/Paris:20230903T180000
DTSTAMP:20260419T161449
CREATED:20230801T142409Z
LAST-MODIFIED:20230801T142409Z
UID:10000440-1693688400-1693764000@diocese64.org
SUMMARY:Pèlerinage annuel à Sarrance
DESCRIPTION:Samedi 2 et dimanche 3 septembre\, aura lieu le pèlerinage annuel à Sarrance\, présidé cette année par le Père abbé de l’abbaye de Mondaye. \nSamedi 2 septembre : 21h procession mariale\nDimanche 3 septembre :\n11h : messe suivi du repas tiré du sac\n15h : chapelet ou chemin de croix\n17h : vêpres \n  \n 
URL:https://diocese64.org/evenement/pelerinage-annuel-a-sarrance/
LOCATION:Monastère de Sarrance\, Sarrance\, 64490
CATEGORIES:Béarn,Communautés religieuses,Pèlerinage
ATTACH;FMTTYPE=image/jpeg:https://diocese64.org/site/wp-content/uploads/2023/08/ND-de-Sarrance.jpg
END:VEVENT
BEGIN:VEVENT
DTSTART;VALUE=DATE:20230725
DTEND;VALUE=DATE:20230726
DTSTAMP:20260419T161449
CREATED:20230718T115157Z
LAST-MODIFIED:20230718T115157Z
UID:10000411-1690243200-1690329599@diocese64.org
SUMMARY:Les reliques de Ste Thérèse à Sarrance
DESCRIPTION:Mardi 25 juillet\, les reliques de Sainte Thérèse seront au monastère de Sarrance avec les jeunes du diocèse de Bayeux Lisieux. \nPour le 100ème anniversaire de sa béatification et les 150 ans de sa naissance\, sainte Thérèse de l’Enfant-Jésus fera halte une journée dans la Vallée d’Aspe\, avant de rejoindre un million de jeunes à Lisbonne pour les Journées Mondiales de la Jeunesse autour du Pape François. \nSainte Thérèse sera accompagnée par 150 jeunes du diocèse de Bayeux Lisieux (diocèse de la maison mère des frères de Sarrance) et de leur évêque Mgr Jacques Habert. \n10h30 Messe présidée par Mgr Habert avec les reliques de Sainte Thérèse au monastère de Sarrance\n18h30 Vêpres dans l’église de Bedous auprès de sainte Thérèse.\n19h30 Stade Pierre Leyrat de Bedous: invitation à rejoindre les Normands pour partager les grillades\, le fromage du pays avec chants et musique de la Vallée d’Aspe. (gratuit)
URL:https://diocese64.org/evenement/les-reliques-de-ste-therese-a-sarrance/
LOCATION:Monastère de Sarrance\, Sarrance\, 64490
CATEGORIES:Béarn
ATTACH;FMTTYPE=image/png:https://diocese64.org/site/wp-content/uploads/2023/07/230725-jmj-sarrance.png
END:VEVENT
BEGIN:VEVENT
DTSTART;TZID=Europe/Paris:20230709T163000
DTEND;TZID=Europe/Paris:20230709T183000
DTSTAMP:20260419T161449
CREATED:20230615T071355Z
LAST-MODIFIED:20230627T154918Z
UID:10000377-1688920200-1688927400@diocese64.org
SUMMARY:Sarrance en musique
DESCRIPTION:L’association « Ensemble Vocal OREMUS »\, basée dans le diocèse d’Aire et Dax (40)\, organise une journée au monastère de Sarrance le 9 juillet prochain. \nUn concert caritatif aura lieu à 16h30\, en faveur de la restauration du monastère. \nConsulter l’invitation \nConsulter l’affiche du concert \n 
URL:https://diocese64.org/evenement/sarrance-en-musique/
LOCATION:Monastère de Sarrance\, Sarrance\, 64490
CATEGORIES:Béarn,Vie paroissiale
ATTACH;FMTTYPE=image/png:https://diocese64.org/site/wp-content/uploads/2023/06/concert-sarrance.png
END:VEVENT
BEGIN:VEVENT
DTSTART;TZID=Europe/Paris:20230701T080000
DTEND;TZID=Europe/Paris:20230702T140000
DTSTAMP:20260419T161449
CREATED:20230620T174020Z
LAST-MODIFIED:20230620T174020Z
UID:10000382-1688198400-1688306400@diocese64.org
SUMMARY:Pèlerinage des pères
DESCRIPTION:Les 1er et 2 juillet 2023\, un pèlerinage des hommes\, époux et pères de famille est proposé sous le patronage de saint Joseph\, d’Oloron à Sarrance. \nSamedi 1er juillet : départ d’Oloron-Sainte-Marie vers le monastère de Sarrance \nDimanche 2 juillet : 11h messe. Pique-nique avec les familles \nInscriptions par tel : 06 58 79 81 10 Philippe Warroux \nInformations via groupe Whatsapp \nPAF : 20€
URL:https://diocese64.org/evenement/pelerinage-des-peres/
LOCATION:Monastère de Sarrance\, Sarrance\, 64490
CATEGORIES:Béarn,Pèlerinage
ATTACH;FMTTYPE=image/jpeg:https://diocese64.org/site/wp-content/uploads/2023/06/230701-pele-peres.jpg
END:VEVENT
END:VCALENDAR